Workbook

Sheet PCCV - Estado de São Paulo
A1: Pesquisa Conjuntural do Comércio Varejista - PCCV (Estado de São Paulo) | P1: Variação (%)
A2: Faturamento Real (R$ mil)¹ | B2: ='Série Histórica - Estado SP'!HD2 -> 45839 | C2: ='Série Histórica - Estado SP'!HE2 -> 45870 | D2: ='Série Histórica - Estado SP'!HF2 -> 45901 | E2: ='Série Histórica - Estado SP'!HG2 -> 45931 | F2: ='Série Histórica - Estado SP'!HH2 -> 45962 | G2: ='Série Histórica - Estado SP'!HI2 -> 45992 | H2: ='Série Histórica - Estado SP'!HJ2 -> 46023 | I2: ='Série Histórica - Estado SP'!HK2 -> 46054 | ... N2: ='Série Histórica - Estado SP'!HP2 -> 46204 | P2: jul-26/jul-25 | Q2: Acum. Ano | R2: Acum. 12 meses
A3: Autopeças e Acessórios | B3: ='Série Histórica - Estado SP'!HD3 -> 4.1039431e+09 | C3: ='Série Histórica - Estado SP'!HE3 -> 3.889735e+09 | D3: ='Série Histórica - Estado SP'!HF3 -> 3.9510915e+09 | E3: ='Série Histórica - Estado SP'!HG3 -> 4.1015851e+09 | F3: ='Série Histórica - Estado SP'!HH3 -> 3.7651205e+09 | G3: ='Série Histórica - Estado SP'!HI3 -> 3.7455124e+09 | H3: ='Série Histórica - Estado SP'!HJ3 -> 3.7715837e+09 | I3: ='Série Histórica - Estado SP'!HK3 -> 3.4593875e+09 | ... N3: ='Série Histórica - Estado SP'!HP3 -> 3.8832257e+09 | P3: =(N3/B3-1)*100 -> -5.3781797 | Q3: =(SUM('Série Histórica - Estado SP'!HJ3:HP3)/SUM('Série Histórica - Estado SP'!GX3:HD3)-1)*100 -> -7.3632561 | R3: =(SUM('Série Histórica - Estado SP'!HE3:HP3)/SUM('Série Histórica - Estado SP'!GS3:HD3)-1)*100 -> -4.7819087
A4: Concessionárias de Veículos | B4: ='Série Histórica - Estado SP'!HD4 -> 1.5914982e+10 | C4: ='Série Histórica - Estado SP'!HE4 -> 1.5962183e+10 | D4: ='Série Histórica - Estado SP'!HF4 -> 1.5449862e+10 | E4: ='Série Histórica - Estado SP'!HG4 -> 1.6206113e+10 | F4: ='Série Histórica - Estado SP'!HH4 -> 1.5107401e+10 | G4: ='Série Histórica - Estado SP'!HI4 -> 1.5103969e+10 | H4: ='Série Histórica - Estado SP'!HJ4 -> 1.4347321e+10 | I4: ='Série Histórica - Estado SP'!HK4 -> 1.3396286e+10 | ... N4: ='Série Histórica - Estado SP'!HP4 -> 1.6769964e+10 | P4: =(N4/B4-1)*100 -> 5.3721805 | Q4: =(SUM('Série Histórica - Estado SP'!HJ4:HP4)/SUM('Série Histórica - Estado SP'!GX4:HD4)-1)*100 -> 6.479931 | R4: =(SUM('Série Histórica - Estado SP'!HE4:HP4)/SUM('Série Histórica - Estado SP'!GS4:HD4)-1)*100 -> 5.2508086
A5: Farmácias e Perfumarias | B5: ='Série Histórica - Estado SP'!HD5 -> 1.2852565e+10 | C5: ='Série Histórica - Estado SP'!HE5 -> 1.3338525e+10 | D5: ='Série Histórica - Estado SP'!HF5 -> 1.3008083e+10 | E5: ='Série Histórica - Estado SP'!HG5 -> 1.3492794e+10 | F5: ='Série Histórica - Estado SP'!HH5 -> 1.4435584e+10 | G5: ='Série Histórica - Estado SP'!HI5 -> 1.4531892e+10 | H5: ='Série Histórica - Estado SP'!HJ5 -> 1.2437822e+10 | I5: ='Série Histórica - Estado SP'!HK5 -> 1.1400827e+10 | ... N5: ='Série Histórica - Estado SP'!HP5 -> 1.2654404e+10 | P5: =(N5/B5-1)*100 -> -1.5417972 | Q5: =(SUM('Série Histórica - Estado SP'!HJ5:HP5)/SUM('Série Histórica - Estado SP'!GX5:HD5)-1)*100 -> -0.47001878 | R5: =(SUM('Série Histórica - Estado SP'!HE5:HP5)/SUM('Série Histórica - Estado SP'!GS5:HD5)-1)*100 -> 2.667362
A6: Eletrodomésticos, Eletrônicos e Lojas de Departamentos | B6: ='Série Histórica - Estado SP'!HD6 -> 8.6851723e+09 | C6: ='Série Histórica - Estado SP'!HE6 -> 7.5334175e+09 | D6: ='Série Histórica - Estado SP'!HF6 -> 7.2581133e+09 | E6: ='Série Histórica - Estado SP'!HG6 -> 7.9137513e+09 | F6: ='Série Histórica - Estado SP'!HH6 -> 9.1174791e+09 | G6: ='Série Histórica - Estado SP'!HI6 -> 9.1037292e+09 | H6: ='Série Histórica - Estado SP'!HJ6 -> 6.9240574e+09 | I6: ='Série Histórica - Estado SP'!HK6 -> 5.83863e+09 | ... N6: ='Série Histórica - Estado SP'!HP6 -> 5.5918061e+09 | P6: =(N6/B6-1)*100 -> -35.616636 | Q6: =(SUM('Série Histórica - Estado SP'!HJ6:HP6)/SUM('Série Histórica - Estado SP'!GX6:HD6)-1)*100 -> -27.120681 | R6: =(SUM('Série Histórica - Estado SP'!HE6:HP6)/SUM('Série Histórica - Estado SP'!GS6:HD6)-1)*100 -> -18.537511
A7: Materiais de Construção | B7: ='Série Histórica - Estado SP'!HD7 -> 1.0842381e+10 | C7: ='Série Histórica - Estado SP'!HE7 -> 1.0526199e+10 | D7: ='Série Histórica - Estado SP'!HF7 -> 1.0640081e+10 | E7: ='Série Histórica - Estado SP'!HG7 -> 1.0980015e+10 | F7: ='Série Histórica - Estado SP'!HH7 -> 1.0223625e+10 | G7: ='Série Histórica - Estado SP'!HI7 -> 9.0900059e+09 | H7: ='Série Histórica - Estado SP'!HJ7 -> 9.280423e+09 | I7: ='Série Histórica - Estado SP'!HK7 -> 8.7022307e+09 | ... N7: ='Série Histórica - Estado SP'!HP7 -> 9.8312949e+09 | P7: =(N7/B7-1)*100 -> -9.3253175 | Q7: =(SUM('Série Histórica - Estado SP'!HJ7:HP7)/SUM('Série Histórica - Estado SP'!GX7:HD7)-1)*100 -> -9.5629514 | R7: =(SUM('Série Histórica - Estado SP'!HE7:HP7)/SUM('Série Histórica - Estado SP'!GS7:HD7)-1)*100 -> -7.5124266
A8: Lojas de Móveis e Decoração | B8: ='Série Histórica - Estado SP'!HD8 -> 1.7454869e+09 | C8: ='Série Histórica - Estado SP'!HE8 -> 1.6300354e+09 | D8: ='Série Histórica - Estado SP'!HF8 -> 1.5666343e+09 | E8: ='Série Histórica - Estado SP'!HG8 -> 1.5982944e+09 | F8: ='Série Histórica - Estado SP'!HH8 -> 1.9695429e+09 | G8: ='Série Histórica - Estado SP'!HI8 -> 1.9569574e+09 | H8: ='Série Histórica - Estado SP'!HJ8 -> 1.3965969e+09 | I8: ='Série Histórica - Estado SP'!HK8 -> 1.3778541e+09 | ... N8: ='Série Histórica - Estado SP'!HP8 -> 1.650155e+09 | P8: =(N8/B8-1)*100 -> -5.4616212 | Q8: =(SUM('Série Histórica - Estado SP'!HJ8:HP8)/SUM('Série Histórica - Estado SP'!GX8:HD8)-1)*100 -> -7.0846981 | R8: =(SUM('Série Histórica - Estado SP'!HE8:HP8)/SUM('Série Histórica - Estado SP'!GS8:HD8)-1)*100 -> -6.9909499 | FV8: 5.0443231e+08
A9: Lojas de Vestuário, Tecido e Calçados | B9: ='Série Histórica - Estado SP'!HD9 -> 1.0253202e+10 | C9: ='Série Histórica - Estado SP'!HE9 -> 1.0340404e+10 | D9: ='Série Histórica - Estado SP'!HF9 -> 9.4791146e+09 | E9: ='Série Histórica - Estado SP'!HG9 -> 9.9382492e+09 | F9: ='Série Histórica - Estado SP'!HH9 -> 1.1720835e+10 | G9: ='Série Histórica - Estado SP'!HI9 -> 1.6213216e+10 | H9: ='Série Histórica - Estado SP'!HJ9 -> 8.8196558e+09 | I9: ='Série Histórica - Estado SP'!HK9 -> 7.9696487e+09 | ... N9: ='Série Histórica - Estado SP'!HP9 -> 9.1754588e+09 | P9: =(N9/B9-1)*100 -> -10.511282 | Q9: =(SUM('Série Histórica - Estado SP'!HJ9:HP9)/SUM('Série Histórica - Estado SP'!GX9:HD9)-1)*100 -> -2.8245132 | R9: =(SUM('Série Histórica - Estado SP'!HE9:HP9)/SUM('Série Histórica - Estado SP'!GS9:HD9)-1)*100 -> -0.80927214
A10: Supermercados | B10: ='Série Histórica - Estado SP'!HD10 -> 4.4692259e+10 | C10: ='Série Histórica - Estado SP'!HE10 -> 4.5744866e+10 | D10: ='Série Histórica - Estado SP'!HF10 -> 4.342046e+10 | E10: ='Série Histórica - Estado SP'!HG10 -> 4.5624195e+10 | F10: ='Série Histórica - Estado SP'!HH10 -> 4.6356288e+10 | G10: ='Série Histórica - Estado SP'!HI10 -> 5.1983375e+10 | H10: ='Série Histórica - Estado SP'!HJ10 -> 4.2535387e+10 | I10: ='Série Histórica - Estado SP'!HK10 -> 4.0200159e+10 | ... N10: ='Série Histórica - Estado SP'!HP10 -> 4.2042872e+10 | P10: =(N10/B10-1)*100 -> -5.9280678 | Q10: =(SUM('Série Histórica - Estado SP'!HJ10:HP10)/SUM('Série Histórica - Estado SP'!GX10:HD10)-1)*100 -> -5.2225086 | R10: =(SUM('Série Histórica - Estado SP'!HE10:HP10)/SUM('Série Histórica - Estado SP'!GS10:HD10)-1)*100 -> -2.6374039
A11: Outras Atividades² | B11: ='Série Histórica - Estado SP'!HD11 -> 2.3973236e+10 | C11: ='Série Histórica - Estado SP'!HE11 -> 2.4066681e+10 | D11: ='Série Histórica - Estado SP'!HF11 -> 2.4101521e+10 | E11: ='Série Histórica - Estado SP'!HG11 -> 2.5544398e+10 | F11: ='Série Histórica - Estado SP'!HH11 -> 2.4471522e+10 | G11: ='Série Histórica - Estado SP'!HI11 -> 2.4998086e+10 | H11: ='Série Histórica - Estado SP'!HJ11 -> 2.1839443e+10 | I11: ='Série Histórica - Estado SP'!HK11 -> 2.0372631e+10 | ... N11: ='Série Histórica - Estado SP'!HP11 -> 2.0730663e+10 | P11: =(N11/B11-1)*100 -> -13.525807 | Q11: =(SUM('Série Histórica - Estado SP'!HJ11:HP11)/SUM('Série Histórica - Estado SP'!GX11:HD11)-1)*100 -> -10.5507 | R11: =(SUM('Série Histórica - Estado SP'!HE11:HP11)/SUM('Série Histórica - Estado SP'!GS11:HD11)-1)*100 -> -7.1667329
A12: Total do Comércio Varejista | B12: ='Série Histórica - Estado SP'!HD12 -> 1.3306323e+11 | C12: ='Série Histórica - Estado SP'!HE12 -> 1.3303205e+11 | D12: ='Série Histórica - Estado SP'!HF12 -> 1.2887496e+11 | E12: ='Série Histórica - Estado SP'!HG12 -> 1.353994e+11 | F12: ='Série Histórica - Estado SP'!HH12 -> 1.371674e+11 | G12: ='Série Histórica - Estado SP'!HI12 -> 1.4672674e+11 | H12: ='Série Histórica - Estado SP'!HJ12 -> 1.2135229e+11 | I12: ='Série Histórica - Estado SP'!HK12 -> 1.1271765e+11 | ... N12: ='Série Histórica - Estado SP'!HP12 -> 1.2232984e+11 | P12: =(N12/B12-1)*100 -> -8.0663795 | Q12: =(SUM('Série Histórica - Estado SP'!HJ12:HP12)/SUM('Série Histórica - Estado SP'!GX12:HD12)-1)*100 -> -6.0760441 | R12: =(SUM('Série Histórica - Estado SP'!HE12:HP12)/SUM('Série Histórica - Estado SP'!GS12:HD12)-1)*100 -> -3.4740814
A14: Fonte: FecomercioSP e Sefaz/SP
A15: 1) a preços de jul-26
A16: 2) Composição do grupo "Outras Atividades": combustíveis para veículos automotores; lubrificantes; livros, jornais, revistas e papelaria; artigos recreativos e esportivos; joias e relógios; gás liquefeito de petróleo (GLP); artigos usados e produtos novos não especificados.

Sheet Série Histórica - Estado SP
A1: Pesquisa Conjuntural do Comércio Varejista - PCCV (Estado de São Paulo)
A2: Faturamento Real (R$ mil)¹ | B2: 39448 | C2: 39479 | D2: 39508 | E2: 39539 | F2: 39569 | G2: 39600 | H2: 39630 | I2: 39661 | J2: 39692 | K2: 39722 | L2: 39753 | M2: 39783 | N2: 39814 | O2: 39845 | P2: 39873 | Q2: 39904 | R2: 39934 | S2: 39965 | T2: 39995 | U2: 40026 | V2: 40057 | W2: 40087 | X2: 40118 | Y2: 40148 | Z2: 40179 | AA2: 40210 | AB2: 40238 | AC2: 40269 | AD2: 40299 | AE2: 40330 | AF2: 40360 | AG2: 40391 | AH2: 40422 | AI2: 40452 | AJ2: 40483 | AK2: 40513 | AL2: 40544 | AM2: 40575 | AN2: 40603 | AO2: 40634 | AP2: 40664 | AQ2: 40695 | AR2: 40725 | AS2: 40756 | AT2: 40787 | AU2: 40817 | AV2: 40848 | AW2: 40878 | AX2: 40909 | AY2: 40940 | AZ2: 40969 | BA2: 41000 | BB2: 41030 | BC2: 41061 | BD2: 41091 | BE2: 41122 | BF2: 41153 | BG2: 41183 | BH2: 41214 | BI2: 41244 | BJ2: 41275 | BK2: 41306 | BL2: 41334 | BM2: 41365 | BN2: 41395 | BO2: 41426 | BP2: 41456 | BQ2: 41487 | BR2: 41518 | BS2: 41548 | BT2: 41579 | BU2: 41609 | BV2: 41640 | BW2: 41671 | BX2: 41699 | BY2: 41730 | BZ2: 41760 | CA2: 41791 | CB2: 41821 | CC2: 41852 | CD2: 41883 | CE2: 41913 | CF2: 41944 | CG2: 41974 | CH2: 42005 | CI2: 42036 | CJ2: 42064 | CK2: 42095 | CL2: 42125 | CM2: 42156 | CN2: 42186 | CO2: 42217 | CP2: 42248 | CQ2: 42278 | CR2: 42309 | CS2: 42339 | CT2: 42370 | CU2: 42401 | CV2: 42430 | CW2: 42461 | CX2: 42491 | CY2: 42522 | CZ2: 42552 | DA2: 42583 | DB2: 42614 | DC2: 42644 | DD2: 42675 | DE2: 42705 | DF2: 42736 | DG2: 42767 | DH2: 42795 | DI2: 42826 | DJ2: 42856 | DK2: 42887 | DL2: 42917 | DM2: 42948 | DN2: 42979 | DO2: 43009 | DP2: 43040 | DQ2: 43070 | DR2: 43101 | DS2: 43132 | DT2: 43160 | DU2: 43191 | DV2: 43221 | DW2: 43252 | DX2: 43282 | DY2: 43313 | DZ2: 43344 | EA2: 43374 | EB2: 43405 | EC2: 43435 | ED2: 43466 | EE2: 43497 | EF2: 43525 | EG2: 43556 | EH2: 43586 | EI2: 43617 | EJ2: 43647 | EK2: 43678 | EL2: 43709 | EM2: 43739 | EN2: 43770 | EO2: 43800 | EP2: 43831 | EQ2: 43862 | ER2: 43891 | ES2: 43922 | ET2: 43952 | EU2: 43983 | EV2: 44013 | EW2: 44044 | EX2: 44075 | EY2: 44105 | EZ2: 44136 | FA2: 44166 | FB2: 44197 | FC2: 44228 | FD2: 44256 | FE2: 44287 | FF2: 44317 | FG2: 44348 | FH2: 44378 | FI2: 44409 | FJ2: 44440 | FK2: 44470 | FL2: 44501 | FM2: 44531 | FN2: 44562 | FO2: 44593 | FP2: 44621 | FQ2: 44652 | FR2: 44682 | FS2: 44713 | FT2: 44743 | FU2: 44774 | FV2: 44805 | FW2: 44835 | FX2: 44866 | FY2: 44896 | FZ2: 44927 | GA2: 44958 | GB2: 44986 | GC2: 45017 | GD2: 45047 | GE2: 45078 | GF2: 45108 | GG2: 45139 | GH2: 45170 | GI2: 45200 | GJ2: 45231 | GK2: 45261 | GL2: 45292 | GM2: 45323 | GN2: 45352 | GO2: 45383 | GP2: 45413 | GQ2: 45444 | GR2: 45474 | GS2: 45505 | GT2: 45536 | GU2: 45566 | GV2: 45597 | GW2: 45627 | GX2: 45658 | GY2: 45689 | GZ2: 45717 | HA2: 45748 | HB2: 45778 | HC2: 45809 | HD2: 45839 | HE2: 45870 | HF2: 45901 | HG2: 45931 | HH2: 45962 | HI2: 45992 | HJ2: 46023 | HK2: 46054 | HL2: 46082 | HM2: 46113 | HN2: 46143 | HO2: 46174 | HP2: 46204
A3: Autopeças e acessórios | B3: 1.145312e+09 | C3: 1.135548e+09 | D3: 1.251733e+09 | E3: 1.2462164e+09 | F3: 1.2463687e+09 | G3: 1.2611786e+09 | H3: 1.3452963e+09 | I3: 1.2553811e+09 | J3: 1.3274327e+09 | K3: 1.2645562e+09 | L3: 1.101395e+09 | M3: 1.1266705e+09 | N3: 1.0889764e+09 | O3: 1.0137439e+09 | P3: 1.2219794e+09 | Q3: 1.1672597e+09 | R3: 1.1510626e+09 | S3: 1.1896567e+09 | T3: 1.2532704e+09 | U3: 1.2107999e+09 | V3: 1.2547217e+09 | W3: 1.3156449e+09 | X3: 1.2435237e+09 | Y3: 1.3143159e+09 | Z3: 1.2677764e+09 | AA3: 1.2020525e+09 | AB3: 1.5588913e+09 | AC3: 1.3767078e+09 | AD3: 1.4358996e+09 | AE3: 1.4270251e+09 | AF3: 1.4782692e+09 | AG3: 1.5300491e+09 | AH3: 1.469987e+09 | AI3: 1.4657778e+09 | AJ3: 1.4588708e+09 | AK3: 1.5023924e+09 | AL3: 1.4180333e+09 | AM3: 1.3987904e+09 | AN3: 1.5779287e+09 | AO3: 1.4762134e+09 | AP3: 1.5952713e+09 | AQ3: 1.5303831e+09 | AR3: 1.5260991e+09 | AS3: 1.6196941e+09 | AT3: 1.5063484e+09 | AU3: 1.5142789e+09 | AV3: 1.4743484e+09 | AW3: 1.5181094e+09 | AX3: 1.3740717e+09 | AY3: 1.3060868e+09 | AZ3: 1.571469e+09 | BA3: 1.3599513e+09 | BB3: 1.5075849e+09 | BC3: 1.37937e+09 | BD3: 1.4481794e+09 | BE3: 1.5902756e+09 | BF3: 1.4035705e+09 | BG3: 1.5658607e+09 | BH3: 1.4916021e+09 | BI3: 1.4203797e+09 | BJ3: 1.4661989e+09 | BK3: 1.2615827e+09 | BL3: 1.4485741e+09 | BM3: 1.4832912e+09 | BN3: 1.5260158e+09 | BO3: 1.4667358e+09 | BP3: 1.62283e+09 | BQ3: 1.7007305e+09 | BR3: 1.6367607e+09 | BS3: 1.7332575e+09 | BT3: 1.6479068e+09 | BU3: 1.5910845e+09 | BV3: 1.6446417e+09 | BW3: 1.5152436e+09 | BX3: 1.4827766e+09 | BY3: 1.5027227e+09 | BZ3: 1.573292e+09 | CA3: 1.4104353e+09 | CB3: 1.619075e+09 | CC3: 1.5504772e+09 | CD3: 1.6004085e+09 | CE3: 1.704859e+09 | CF3: 1.5707418e+09 | CG3: 1.5703397e+09 | CH3: 1.532557e+09 | CI3: 1.3400414e+09 | CJ3: 1.6347803e+09 | CK3: 1.539801e+09 | CL3: 1.5133716e+09 | CM3: 1.5214191e+09 | CN3: 1.6016839e+09 | CO3: 1.4574741e+09 | CP3: 1.5003788e+09 | CQ3: 1.5267296e+09 | CR3: 1.3821917e+09 | CS3: 1.535958e+09 | CT3: 1.4529576e+09 | CU3: 1.4171548e+09 | CV3: 1.6514023e+09 | CW3: 1.5597907e+09 | CX3: 1.6168912e+09 | CY3: 1.587324e+09 | CZ3: 1.5973203e+09 | DA3: 1.6137824e+09 | DB3: 1.5793405e+09 | DC3: 1.5626611e+09 | DD3: 1.6229624e+09 | DE3: 1.7829383e+09 | DF3: 1.6771307e+09 | DG3: 1.6015931e+09 | DH3: 1.798904e+09 | DI3: 1.5386033e+09 | DJ3: 1.7828954e+09 | DK3: 1.7433026e+09 | DL3: 1.8053715e+09 | DM3: 1.8731552e+09 | DN3: 1.7224932e+09 | DO3: 1.7625475e+09 | DP3: 1.7154408e+09 | DQ3: 1.8395125e+09 | DR3: 1.8090586e+09 | DS3: 1.6739119e+09 | DT3: 1.8890734e+09 | DU3: 1.8189928e+09 | DV3: 1.6825539e+09 | DW3: 1.7425398e+09 | DX3: 1.8474463e+09 | DY3: 1.9867488e+09 | DZ3: 1.7709597e+09 | EA3: 1.984299e+09 | EB3: 1.8747226e+09 | EC3: 1.9641015e+09 | ED3: 2.0128868e+09 | EE3: 1.9095291e+09 | EF3: 1.9478145e+09 | EG3: 2.0297528e+09 | EH3: 2.0987955e+09 | EI3: 1.8977447e+09 | EJ3: 2.1691761e+09 | EK3: 2.1036847e+09 | EL3: 2.0157563e+09 | EM3: 2.1704745e+09 | EN3: 2.0344962e+09 | EO3: 2.043087e+09 | EP3: 2.1612818e+09 | EQ3: 2.0052363e+09 | ER3: 1.8948849e+09 | ES3: 1.3655951e+09 | ET3: 1.7221038e+09 | EU3: 2.1060083e+09 | EV3: 2.3777728e+09 | EW3: 2.370877e+09 | EX3: 2.4169144e+09 | EY3: 2.5498598e+09 | EZ3: 2.3827257e+09 | FA3: 2.4559958e+09 | FB3: 2.3195858e+09 | FC3: 2.2898936e+09 | FD3: 2.4535668e+09 | FE3: 2.3451878e+09 | FF3: 2.5210274e+09 | FG3: 2.5512664e+09 | FH3: 2.8081244e+09 | FI3: 2.6959856e+09 | FJ3: 2.5752523e+09 | FK3: 2.586655e+09 | FL3: 2.6156951e+09 | FM3: 2.7468299e+09 | FN3: 2.6682524e+09 | FO3: 2.7091304e+09 | FP3: 2.9934093e+09 | FQ3: 2.7454262e+09 | FR3: 3.05375e+09 | FS3: 2.9137997e+09 | FT3: 2.9197016e+09 | FU3: 3.1312166e+09 | FV3: 2.9846559e+09 | FW3: 2.9590974e+09 | FX3: 2.8670615e+09 | FY3: 3.0612214e+09 | FZ3: 3.0993135e+09 | GA3: 2.9084928e+09 | GB3: 3.4603783e+09 | GC3: 2.9317173e+09 | GD3: 3.4708449e+09 | GE3: 3.3076442e+09 | GF3: 3.3540731e+09 | GG3: 3.5063855e+09 | GH3: 3.3108409e+09 | GI3: 3.4576557e+09 | GJ3: 3.3924596e+09 | GK3: 3.4527609e+09 | GL3: 3.5374763e+09 | GM3: 3.308216e+09 | GN3: 3.5411437e+09 | GO3: 3.7183256e+09 | GP3: 3.7305995e+09 | GQ3: 3.7232461e+09 | GR3: 4.0754694e+09 | GS3: 4.1025258e+09 | GT3: 3.9102486e+09 | GU3: 4.1413745e+09 | GV3: 3.7887524e+09 | GW3: 3.7284915e+09 | GX3: 4.0094092e+09 | GY3: 3.838997e+09 | GZ3: 3.9796608e+09 | HA3: 4.0319926e+09 | HB3: 4.1534605e+09 | HC3: 3.8648142e+09 | HD3: 4.1039431e+09 | HE3: 3.889735e+09 | HF3: 3.9510915e+09 | HG3: 4.1015851e+09 | HH3: 3.7651205e+09 | HI3: 3.7455124e+09 | HJ3: 3.7715837e+09 | HK3: 3.4593875e+09 | HL3: 3.8859249e+09 | HM3: 3.6663285e+09 | HN3: 3.6558231e+09 | HO3: 3.5995973e+09 | HP3: 3.8832257e+09
A4: Concessionárias de veículos | B4: 1.4182667e+10 | C4: 1.3035084e+10 | D4: 1.5014848e+10 | E4: 1.591488e+10 | F4: 1.5170569e+10 | G4: 1.5919402e+10 | H4: 1.640721e+10 | I4: 1.5127762e+10 | J4: 1.7012481e+10 | K4: 1.2945521e+10 | L4: 1.0228713e+10 | M4: 1.1360716e+10 | N4: 1.1354197e+10 | O4: 1.0395833e+10 | P4: 1.4072747e+10 | Q4: 1.1520782e+10 | R4: 1.2783926e+10 | S4: 1.5675028e+10 | T4: 1.2685974e+10 | U4: 1.3539605e+10 | V4: 1.6757613e+10 | W4: 1.3662061e+10 | X4: 1.287791e+10 | Y4: 1.3484367e+10 | Z4: 1.2115769e+10 | AA4: 1.1905819e+10 | AB4: 1.806021e+10 | AC4: 1.189276e+10 | AD4: 1.2343834e+10 | AE4: 1.2165773e+10 | AF4: 1.335696e+10 | AG4: 1.503978e+10 | AH4: 1.4449275e+10 | AI4: 1.4114464e+10 | AJ4: 1.5346044e+10 | AK4: 1.4755622e+10 | AL4: 1.2122138e+10 | AM4: 1.2946995e+10 | AN4: 1.3318838e+10 | AO4: 1.2744004e+10 | AP4: 1.5079297e+10 | AQ4: 1.3210414e+10 | AR4: 1.3390738e+10 | AS4: 1.4158088e+10 | AT4: 1.4692878e+10 | AU4: 1.298433e+10 | AV4: 1.3985187e+10 | AW4: 1.3750132e+10 | AX4: 1.2064133e+10 | AY4: 1.1113039e+10 | AZ4: 1.324245e+10 | BA4: 1.157191e+10 | BB4: 1.2609785e+10 | BC4: 1.3552033e+10 | BD4: 1.3149902e+10 | BE4: 1.6189665e+10 | BF4: 1.0513974e+10 | BG4: 1.3473774e+10 | BH4: 1.217336e+10 | BI4: 1.2722392e+10 | BJ4: 1.2135303e+10 | BK4: 9.8291167e+09 | BL4: 1.2050245e+10 | BM4: 1.3563741e+10 | BN4: 1.3647017e+10 | BO4: 1.3004182e+10 | BP4: 1.386467e+10 | BQ4: 1.467913e+10 | BR4: 1.3616303e+10 | BS4: 1.5468709e+10 | BT4: 1.4084829e+10 | BU4: 1.3129903e+10 | BV4: 1.1877999e+10 | BW4: 1.0166834e+10 | BX4: 1.016331e+10 | BY4: 1.0613872e+10 | BZ4: 1.1460968e+10 | CA4: 9.3322082e+09 | CB4: 1.1003984e+10 | CC4: 1.0904605e+10 | CD4: 1.1708246e+10 | CE4: 1.2150264e+10 | CF4: 1.1831882e+10 | CG4: 1.1915478e+10 | CH4: 9.7167469e+09 | CI4: 8.0529787e+09 | CJ4: 9.8843253e+09 | CK4: 8.8952603e+09 | CL4: 9.0314087e+09 | CM4: 9.401547e+09 | CN4: 9.5234896e+09 | CO4: 9.4945956e+09 | CP4: 9.1267553e+09 | CQ4: 9.3693005e+09 | CR4: 9.031374e+09 | CS4: 9.3971945e+09 | CT4: 8.1193221e+09 | CU4: 7.8174651e+09 | CV4: 9.1391978e+09 | CW4: 8.240955e+09 | CX4: 8.439134e+09 | CY4: 8.762977e+09 | CZ4: 8.6497194e+09 | DA4: 9.2907921e+09 | DB4: 9.0971146e+09 | DC4: 9.2905661e+09 | DD4: 9.7623026e+09 | DE4: 1.0060855e+10 | DF4: 9.6995413e+09 | DG4: 7.143939e+09 | DH4: 9.7232993e+09 | DI4: 8.1311506e+09 | DJ4: 9.5361775e+09 | DK4: 9.5717646e+09 | DL4: 9.5484442e+09 | DM4: 1.0447993e+10 | DN4: 9.6967351e+09 | DO4: 1.0147113e+10 | DP4: 1.0132132e+10 | DQ4: 1.0361626e+10 | DR4: 1.0917933e+10 | DS4: 8.2168672e+09 | DT4: 1.0210004e+10 | DU4: 9.8193622e+09 | DV4: 9.3156916e+09 | DW4: 9.2024745e+09 | DX4: 9.7748185e+09 | DY4: 1.0966889e+10 | DZ4: 9.9053693e+09 | EA4: 1.1042518e+10 | EB4: 1.0779548e+10 | EC4: 1.0503629e+10 | ED4: 1.093953e+10 | EE4: 9.3760651e+09 | EF4: 9.5953555e+09 | EG4: 1.017154e+10 | EH4: 1.06086e+10 | EI4: 9.7992909e+09 | EJ4: 1.1006825e+10 | EK4: 1.100822e+10 | EL4: 1.0688259e+10 | EM4: 1.1676031e+10 | EN4: 1.1107924e+10 | EO4: 1.0563906e+10 | EP4: 1.103387e+10 | EQ4: 9.1689363e+09 | ER4: 7.2744383e+09 | ES4: 2.9748157e+09 | ET4: 4.9309103e+09 | EU4: 7.7999385e+09 | EV4: 9.3775077e+09 | EW4: 9.5337221e+09 | EX4: 1.0223462e+10 | EY4: 1.0408148e+10 | EZ4: 1.0687646e+10 | FA4: 1.069356e+10 | FB4: 9.1592717e+09 | FC4: 8.1686611e+09 | FD4: 7.834385e+09 | FE4: 8.1804325e+09 | FF4: 9.3352326e+09 | FG4: 9.8560304e+09 | FH4: 1.0229467e+10 | FI4: 1.0454293e+10 | FJ4: 9.9199602e+09 | FK4: 9.2996648e+09 | FL4: 9.5741986e+09 | FM4: 9.2601561e+09 | FN4: 8.8162389e+09 | FO4: 9.2123318e+09 | FP4: 1.0470913e+10 | FQ4: 9.5787936e+09 | FR4: 1.0850969e+10 | FS4: 1.0189313e+10 | FT4: 9.9907872e+09 | FU4: 1.1389792e+10 | FV4: 1.119008e+10 | FW4: 1.0749449e+10 | FX4: 1.0465822e+10 | FY4: 1.036344e+10 | FZ4: 9.7943895e+09 | GA4: 9.7897179e+09 | GB4: 1.2789e+10 | GC4: 1.0496893e+10 | GD4: 1.2081386e+10 | GE4: 1.2825439e+10 | GF4: 1.2764595e+10 | GG4: 1.348436e+10 | GH4: 1.2542092e+10 | GI4: 1.2991423e+10 | GJ4: 1.3456708e+10 | GK4: 1.3100759e+10 | GL4: 1.2637063e+10 | GM4: 1.2474896e+10 | GN4: 1.3811758e+10 | GO4: 1.432614e+10 | GP4: 1.4083643e+10 | GQ4: 1.4638721e+10 | GR4: 1.5158225e+10 | GS4: 1.5171723e+10 | GT4: 1.5075614e+10 | GU4: 1.595394e+10 | GV4: 1.4886521e+10 | GW4: 1.4057882e+10 | GX4: 1.3968711e+10 | GY4: 1.4211191e+10 | GZ4: 1.4852012e+10 | HA4: 1.4306217e+10 | HB4: 1.4892801e+10 | HC4: 1.4521407e+10 | HD4: 1.5914982e+10 | HE4: 1.5962183e+10 | HF4: 1.5449862e+10 | HG4: 1.6206113e+10 | HH4: 1.5107401e+10 | HI4: 1.5103969e+10 | HJ4: 1.4347321e+10 | HK4: 1.3396286e+10 | HL4: 1.7272655e+10 | HM4: 1.5489251e+10 | HN4: 1.6197309e+10 | HO4: 1.5847307e+10 | HP4: 1.6769964e+10
A5: Farmácias e perfumarias | B5: 3.2453658e+09 | C5: 2.9950672e+09 | D5: 3.3729251e+09 | E5: 3.7837404e+09 | F5: 3.640678e+09 | G5: 3.5562614e+09 | H5: 3.7829041e+09 | I5: 3.7476868e+09 | J5: 3.369511e+09 | K5: 3.4323997e+09 | L5: 3.398486e+09 | M5: 3.8689793e+09 | N5: 3.3191444e+09 | O5: 3.1339351e+09 | P5: 3.6794528e+09 | Q5: 3.6525554e+09 | R5: 3.8483677e+09 | S5: 3.7557766e+09 | T5: 3.9259761e+09 | U5: 3.988173e+09 | V5: 3.8982276e+09 | W5: 4.0930248e+09 | X5: 3.96434e+09 | Y5: 4.5523033e+09 | Z5: 3.4697195e+09 | AA5: 3.6011162e+09 | AB5: 4.342272e+09 | AC5: 4.0530478e+09 | AD5: 4.4321366e+09 | AE5: 4.2948093e+09 | AF5: 4.136928e+09 | AG5: 4.3664397e+09 | AH5: 4.1977709e+09 | AI5: 4.2623879e+09 | AJ5: 4.2994982e+09 | AK5: 4.889165e+09 | AL5: 3.9772096e+09 | AM5: 3.9155921e+09 | AN5: 4.3795122e+09 | AO5: 4.2640642e+09 | AP5: 4.5902267e+09 | AQ5: 4.3952676e+09 | AR5: 4.4370015e+09 | AS5: 4.6495482e+09 | AT5: 4.5098873e+09 | AU5: 4.6054116e+09 | AV5: 4.4818133e+09 | AW5: 5.3283488e+09 | AX5: 4.2168594e+09 | AY5: 4.0577982e+09 | AZ5: 4.6750759e+09 | BA5: 4.3431145e+09 | BB5: 4.7618638e+09 | BC5: 4.5354287e+09 | BD5: 4.6476161e+09 | BE5: 4.9738882e+09 | BF5: 4.5585406e+09 | BG5: 4.8575737e+09 | BH5: 4.639851e+09 | BI5: 5.3335662e+09 | BJ5: 4.372245e+09 | BK5: 3.9209516e+09 | BL5: 4.4499827e+09 | BM5: 4.6520198e+09 | BN5: 4.8523695e+09 | BO5: 4.6416033e+09 | BP5: 4.8451261e+09 | BQ5: 5.1488848e+09 | BR5: 4.8613083e+09 | BS5: 5.083524e+09 | BT5: 5.0023078e+09 | BU5: 5.6524557e+09 | BV5: 4.8679196e+09 | BW5: 4.4662859e+09 | BX5: 4.6116681e+09 | BY5: 4.6632353e+09 | BZ5: 5.2683744e+09 | CA5: 4.9129343e+09 | CB5: 5.1541503e+09 | CC5: 5.3582481e+09 | CD5: 5.2470171e+09 | CE5: 5.4556811e+09 | CF5: 5.2934352e+09 | CG5: 5.9026303e+09 | CH5: 4.8638076e+09 | CI5: 4.45523e+09 | CJ5: 5.1545521e+09 | CK5: 5.0147638e+09 | CL5: 5.3696819e+09 | CM5: 5.2617315e+09 | CN5: 5.2511898e+09 | CO5: 5.4555147e+09 | CP5: 5.2241026e+09 | CQ5: 5.4979749e+09 | CR5: 5.3326361e+09 | CS5: 6.4801953e+09 | CT5: 5.2566144e+09 | CU5: 5.1037459e+09 | CV5: 5.6436856e+09 | CW5: 5.7090368e+09 | CX5: 5.9227892e+09 | CY5: 5.797125e+09 | CZ5: 5.8548744e+09 | DA5: 5.9956998e+09 | DB5: 5.8561932e+09 | DC5: 6.1360349e+09 | DD5: 6.2759925e+09 | DE5: 7.5054793e+09 | DF5: 6.0957891e+09 | DG5: 5.9272055e+09 | DH5: 6.360049e+09 | DI5: 5.8599494e+09 | DJ5: 6.5151272e+09 | DK5: 6.4519685e+09 | DL5: 6.4116786e+09 | DM5: 6.5871832e+09 | DN5: 6.533615e+09 | DO5: 6.5290049e+09 | DP5: 6.619794e+09 | DQ5: 7.6503814e+09 | DR5: 6.4406106e+09 | DS5: 6.1363523e+09 | DT5: 6.6640455e+09 | DU5: 6.4598652e+09 | DV5: 6.7824432e+09 | DW5: 6.5462146e+09 | DX5: 6.562708e+09 | DY5: 6.8271725e+09 | DZ5: 6.5271389e+09 | EA5: 6.8356727e+09 | EB5: 7.0074246e+09 | EC5: 8.0380018e+09 | ED5: 6.7085984e+09 | EE5: 6.5721039e+09 | EF5: 7.1066405e+09 | EG5: 6.9050386e+09 | EH5: 7.6018835e+09 | EI5: 7.2967704e+09 | EJ5: 7.4304306e+09 | EK5: 7.9149024e+09 | EL5: 7.210844e+09 | EM5: 7.7471313e+09 | EN5: 7.7697529e+09 | EO5: 8.7682027e+09 | EP5: 7.4051055e+09 | EQ5: 7.1476964e+09 | ER5: 1.0528011e+10 | ES5: 7.1361277e+09 | ET5: 6.9583463e+09 | EU5: 7.3358916e+09 | EV5: 7.9596904e+09 | EW5: 8.2201525e+09 | EX5: 7.9689575e+09 | EY5: 8.3003451e+09 | EZ5: 8.4372144e+09 | FA5: 9.4494247e+09 | FB5: 7.9385519e+09 | FC5: 7.424441e+09 | FD5: 8.3888734e+09 | FE5: 7.9469231e+09 | FF5: 8.7032796e+09 | FG5: 8.4032231e+09 | FH5: 8.4688065e+09 | FI5: 8.4767666e+09 | FJ5: 8.1046419e+09 | FK5: 8.295933e+09 | FL5: 8.7576441e+09 | FM5: 1.0041037e+10 | FN5: 8.7526991e+09 | FO5: 7.921553e+09 | FP5: 8.9996903e+09 | FQ5: 8.6488539e+09 | FR5: 9.8736962e+09 | FS5: 9.6563553e+09 | FT5: 9.4598515e+09 | FU5: 9.7103835e+09 | FV5: 9.3709313e+09 | FW5: 9.6472365e+09 | FX5: 1.0427745e+10 | FY5: 1.1192334e+10 | FZ5: 9.570872e+09 | GA5: 9.1795007e+09 | GB5: 1.1082878e+10 | GC5: 1.0133924e+10 | GD5: 1.1380709e+10 | GE5: 1.1055259e+10 | GF5: 1.0892647e+10 | GG5: 1.1138838e+10 | GH5: 1.066648e+10 | GI5: 1.0884579e+10 | GJ5: 1.1628615e+10 | GK5: 1.2523641e+10 | GL5: 1.0497953e+10 | GM5: 1.058445e+10 | GN5: 1.1812015e+10 | GO5: 1.1670402e+10 | GP5: 1.2344239e+10 | GQ5: 1.2086509e+10 | GR5: 1.2069607e+10 | GS5: 1.2713738e+10 | GT5: 1.2099432e+10 | GU5: 1.2507816e+10 | GV5: 1.3267066e+10 | GW5: 1.3759148e+10 | GX5: 1.1764709e+10 | GY5: 1.1397409e+10 | GZ5: 1.2809547e+10 | HA5: 1.222443e+10 | HB5: 1.3498903e+10 | HC5: 1.2891772e+10 | HD5: 1.2852565e+10 | HE5: 1.3338525e+10 | HF5: 1.3008083e+10 | HG5: 1.3492794e+10 | HH5: 1.4435584e+10 | HI5: 1.4531892e+10 | HJ5: 1.2437822e+10 | HK5: 1.1400827e+10 | HL5: 1.2918962e+10 | HM5: 1.217623e+10 | HN5: 1.3036071e+10 | HO5: 1.2404036e+10 | HP5: 1.2654404e+10
A6: Eletrodomésticos, eletrônicos e L.D. | B6: 7.1288029e+09 | C6: 6.1274453e+09 | D6: 7.335313e+09 | E6: 7.0385382e+09 | F6: 7.6864467e+09 | G6: 7.3645874e+09 | H6: 6.8148132e+09 | I6: 6.9459455e+09 | J6: 8.2694471e+09 | K6: 7.7063123e+09 | L6: 7.1517743e+09 | M6: 1.198624e+10 | N6: 7.2259307e+09 | O6: 5.7049567e+09 | P6: 6.7293682e+09 | Q6: 6.3960727e+09 | R6: 6.9120743e+09 | S6: 6.7967416e+09 | T6: 6.8025453e+09 | U6: 6.8747502e+09 | V6: 7.6670867e+09 | W6: 7.6120002e+09 | X6: 8.1802627e+09 | Y6: 1.1281687e+10 | Z6: 7.9996692e+09 | AA6: 6.8823428e+09 | AB6: 8.2506642e+09 | AC6: 7.5173456e+09 | AD6: 7.9269605e+09 | AE6: 8.0502672e+09 | AF6: 7.7019901e+09 | AG6: 8.1042323e+09 | AH6: 8.8396881e+09 | AI6: 8.749108e+09 | AJ6: 9.112337e+09 | AK6: 1.2858309e+10 | AL6: 8.8354793e+09 | AM6: 7.25732e+09 | AN6: 8.2574305e+09 | AO6: 7.6070648e+09 | AP6: 8.340123e+09 | AQ6: 8.4412404e+09 | AR6: 8.1000218e+09 | AS6: 8.5050214e+09 | AT6: 8.635804e+09 | AU6: 8.2660778e+09 | AV6: 8.938118e+09 | AW6: 1.3011073e+10 | AX6: 8.8010453e+09 | AY6: 7.5720657e+09 | AZ6: 8.4619017e+09 | BA6: 7.5449775e+09 | BB6: 8.6434777e+09 | BC6: 8.3998217e+09 | BD6: 8.0059269e+09 | BE6: 8.2864212e+09 | BF6: 8.592724e+09 | BG6: 8.5776624e+09 | BH6: 8.8190514e+09 | BI6: 1.2617509e+10 | BJ6: 8.6358602e+09 | BK6: 6.934982e+09 | BL6: 8.0993638e+09 | BM6: 7.5451871e+09 | BN6: 9.3592431e+09 | BO6: 9.4592978e+09 | BP6: 9.3373175e+09 | BQ6: 9.7084283e+09 | BR6: 8.0729739e+09 | BS6: 8.0962e+09 | BT6: 8.1770077e+09 | BU6: 1.0028541e+10 | BV6: 7.1121813e+09 | BW6: 5.7614504e+09 | BX6: 6.5017276e+09 | BY6: 6.823355e+09 | BZ6: 8.0640488e+09 | CA6: 8.2461729e+09 | CB6: 6.9815436e+09 | CC6: 7.790559e+09 | CD6: 7.5359859e+09 | CE6: 7.7499061e+09 | CF6: 8.4960329e+09 | CG6: 9.6334024e+09 | CH6: 6.9124254e+09 | CI6: 5.3602024e+09 | CJ6: 6.4610589e+09 | CK6: 5.7110553e+09 | CL6: 6.1226424e+09 | CM6: 5.795825e+09 | CN6: 5.8967905e+09 | CO6: 5.8079881e+09 | CP6: 6.1349027e+09 | CQ6: 6.5600258e+09 | CR6: 7.5406541e+09 | CS6: 8.7735679e+09 | CT6: 6.2411521e+09 | CU6: 5.8285155e+09 | CV6: 5.1373194e+09 | CW6: 4.9758131e+09 | CX6: 5.2090433e+09 | CY6: 5.1274668e+09 | CZ6: 4.9545016e+09 | DA6: 5.0975475e+09 | DB6: 5.2373616e+09 | DC6: 5.4659443e+09 | DD6: 6.5838477e+09 | DE6: 7.8548654e+09 | DF6: 5.6656758e+09 | DG6: 5.4934848e+09 | DH6: 5.9145027e+09 | DI6: 5.275469e+09 | DJ6: 5.8643657e+09 | DK6: 5.8224078e+09 | DL6: 5.671083e+09 | DM6: 5.6756877e+09 | DN6: 5.6693118e+09 | DO6: 5.8175478e+09 | DP6: 7.4162811e+09 | DQ6: 8.1574031e+09 | DR6: 6.4530378e+09 | DS6: 6.2604871e+09 | DT6: 6.3873812e+09 | DU6: 5.9925606e+09 | DV6: 6.1267666e+09 | DW6: 6.4309467e+09 | DX6: 5.9434389e+09 | DY6: 6.4676445e+09 | DZ6: 6.1104241e+09 | EA6: 6.3735607e+09 | EB6: 8.2840586e+09 | EC6: 8.7951719e+09 | ED6: 6.7785785e+09 | EE6: 6.8320572e+09 | EF6: 6.2856888e+09 | EG6: 6.2432885e+09 | EH6: 6.3139776e+09 | EI6: 5.9461919e+09 | EJ6: 6.4024355e+09 | EK6: 6.6946347e+09 | EL6: 6.8655443e+09 | EM6: 7.1103613e+09 | EN6: 8.8623133e+09 | EO6: 1.0488954e+10 | EP6: 7.1076614e+09 | EQ6: 7.2379765e+09 | ER6: 5.6700234e+09 | ES6: 3.5052434e+09 | ET6: 5.2003783e+09 | EU6: 8.3024557e+09 | EV6: 7.4969327e+09 | EW6: 7.9449224e+09 | EX6: 7.6185041e+09 | EY6: 8.7389224e+09 | EZ6: 1.0015438e+10 | FA6: 1.0731859e+10 | FB6: 6.7823873e+09 | FC6: 6.3658171e+09 | FD6: 5.1362766e+09 | FE6: 5.9512288e+09 | FF6: 7.2860217e+09 | FG6: 7.7096538e+09 | FH6: 6.9800318e+09 | FI6: 6.7716154e+09 | FJ6: 6.8897611e+09 | FK6: 6.9213569e+09 | FL6: 9.1900033e+09 | FM6: 9.5252411e+09 | FN6: 6.5505877e+09 | FO6: 6.2881612e+09 | FP6: 7.1800869e+09 | FQ6: 6.9198041e+09 | FR6: 7.4594195e+09 | FS6: 7.7198299e+09 | FT6: 6.6604323e+09 | FU6: 6.789868e+09 | FV6: 6.5940725e+09 | FW6: 6.9781657e+09 | FX6: 8.8192957e+09 | FY6: 9.1778999e+09 | FZ6: 7.5682399e+09 | GA6: 6.4534493e+09 | GB6: 7.7769313e+09 | GC6: 7.6715672e+09 | GD6: 7.430323e+09 | GE6: 7.0831053e+09 | GF6: 7.19259e+09 | GG6: 7.6034522e+09 | GH6: 6.7137101e+09 | GI6: 7.3474588e+09 | GJ6: 9.1346636e+09 | GK6: 9.5370654e+09 | GL6: 7.5238353e+09 | GM6: 6.735204e+09 | GN6: 7.7170128e+09 | GO6: 7.2378733e+09 | GP6: 7.8269157e+09 | GQ6: 7.7206001e+09 | GR6: 8.2957939e+09 | GS6: 7.7564747e+09 | GT6: 7.3653636e+09 | GU6: 8.3993418e+09 | GV6: 1.0219116e+10 | GW6: 1.0454874e+10 | GX6: 8.1311068e+09 | GY6: 7.60276e+09 | GZ6: 8.1207065e+09 | HA6: 8.0317083e+09 | HB6: 8.4674187e+09 | HC6: 8.329267e+09 | HD6: 8.6851723e+09 | HE6: 7.5334175e+09 | HF6: 7.2581133e+09 | HG6: 7.9137513e+09 | HH6: 9.1174791e+09 | HI6: 9.1037292e+09 | HJ6: 6.9240574e+09 | HK6: 5.83863e+09 | HL6: 6.3342885e+09 | HM6: 5.6135413e+09 | HN6: 5.850789e+09 | HO6: 5.656397e+09 | HP6: 5.5918061e+09
A7: Materiais de construção | B7: 4.268952e+09 | C7: 4.1270815e+09 | D7: 4.3939678e+09 | E7: 4.5915223e+09 | F7: 4.4901362e+09 | G7: 4.585014e+09 | H7: 5.0342043e+09 | I7: 4.8481987e+09 | J7: 5.0482615e+09 | K7: 5.0979978e+09 | L7: 4.6851957e+09 | M7: 4.1879637e+09 | N7: 4.1658739e+09 | O7: 3.8842971e+09 | P7: 4.5537738e+09 | Q7: 4.2367111e+09 | R7: 4.4145905e+09 | S7: 4.558734e+09 | T7: 4.840719e+09 | U7: 4.8555127e+09 | V7: 4.8899557e+09 | W7: 5.1366121e+09 | X7: 5.1410121e+09 | Y7: 4.7780938e+09 | Z7: 4.6626529e+09 | AA7: 4.5715712e+09 | AB7: 5.4533282e+09 | AC7: 4.9313478e+09 | AD7: 5.2882315e+09 | AE7: 5.0892513e+09 | AF7: 5.4584979e+09 | AG7: 5.7464404e+09 | AH7: 5.6928429e+09 | AI7: 5.617645e+09 | AJ7: 5.8538442e+09 | AK7: 5.3735663e+09 | AL7: 5.4529502e+09 | AM7: 5.5969108e+09 | AN7: 6.0159269e+09 | AO7: 5.5738567e+09 | AP7: 6.1198333e+09 | AQ7: 5.9330939e+09 | AR7: 6.2895645e+09 | AS7: 6.5055026e+09 | AT7: 6.300854e+09 | AU7: 6.1922714e+09 | AV7: 6.3544185e+09 | AW7: 5.8012126e+09 | AX7: 5.595934e+09 | AY7: 5.4112189e+09 | AZ7: 6.1559961e+09 | BA7: 5.4308805e+09 | BB7: 5.9647286e+09 | BC7: 5.6022675e+09 | BD7: 6.2630284e+09 | BE7: 6.5140608e+09 | BF7: 5.9587985e+09 | BG7: 6.5981158e+09 | BH7: 6.3133148e+09 | BI7: 5.4525896e+09 | BJ7: 5.7479166e+09 | BK7: 5.1821214e+09 | BL7: 5.7346864e+09 | BM7: 6.2798037e+09 | BN7: 6.7609774e+09 | BO7: 6.5345783e+09 | BP7: 7.4690945e+09 | BQ7: 7.8791865e+09 | BR7: 7.5860295e+09 | BS7: 7.9272438e+09 | BT7: 7.571098e+09 | BU7: 6.3936591e+09 | BV7: 6.8334065e+09 | BW7: 6.0617244e+09 | BX7: 5.8201261e+09 | BY7: 5.7570949e+09 | BZ7: 6.1293314e+09 | CA7: 5.3979821e+09 | CB7: 6.523533e+09 | CC7: 6.6681055e+09 | CD7: 6.8362692e+09 | CE7: 7.278159e+09 | CF7: 6.7796364e+09 | CG7: 5.9406258e+09 | CH7: 6.1503899e+09 | CI7: 5.4725668e+09 | CJ7: 6.1998605e+09 | CK7: 5.8100893e+09 | CL7: 5.8991526e+09 | CM7: 5.2886168e+09 | CN7: 5.5258042e+09 | CO7: 5.4473536e+09 | CP7: 5.3351784e+09 | CQ7: 5.7214657e+09 | CR7: 5.3857832e+09 | CS7: 5.0776013e+09 | CT7: 4.883092e+09 | CU7: 4.8645884e+09 | CV7: 5.2714696e+09 | CW7: 5.0878347e+09 | CX7: 5.1175658e+09 | CY7: 5.2436398e+09 | CZ7: 5.4353278e+09 | DA7: 5.5771875e+09 | DB7: 5.3186735e+09 | DC7: 5.4150508e+09 | DD7: 5.7344853e+09 | DE7: 5.5156783e+09 | DF7: 5.3252344e+09 | DG7: 4.5679391e+09 | DH7: 5.4820872e+09 | DI7: 4.7903811e+09 | DJ7: 5.405089e+09 | DK7: 5.3126152e+09 | DL7: 5.72634e+09 | DM7: 5.8759462e+09 | DN7: 5.6336675e+09 | DO7: 5.8779101e+09 | DP7: 5.9779111e+09 | DQ7: 5.5265355e+09 | DR7: 5.6016983e+09 | DS7: 4.9293252e+09 | DT7: 5.5863389e+09 | DU7: 5.5924132e+09 | DV7: 5.4054966e+09 | DW7: 5.7693119e+09 | DX7: 5.8451192e+09 | DY7: 6.3455462e+09 | DZ7: 5.9344353e+09 | EA7: 6.4157072e+09 | EB7: 6.5093145e+09 | EC7: 5.9390817e+09 | ED7: 6.2374119e+09 | EE7: 5.6700822e+09 | EF7: 6.014847e+09 | EG7: 6.1706222e+09 | EH7: 6.5315162e+09 | EI7: 6.2498304e+09 | EJ7: 6.8985916e+09 | EK7: 6.9925477e+09 | EL7: 6.7837993e+09 | EM7: 7.459044e+09 | EN7: 7.2022653e+09 | EO7: 6.2749754e+09 | EP7: 6.7631119e+09 | EQ7: 6.1346031e+09 | ER7: 5.9167887e+09 | ES7: 5.3217304e+09 | ET7: 6.5022794e+09 | EU7: 7.7325294e+09 | EV7: 8.6743454e+09 | EW7: 8.8191277e+09 | EX7: 9.2597628e+09 | EY7: 9.7736335e+09 | EZ7: 9.5326952e+09 | FA7: 8.7235718e+09 | FB7: 8.4855034e+09 | FC7: 8.5829439e+09 | FD7: 8.7931783e+09 | FE7: 8.6305921e+09 | FF7: 9.6502816e+09 | FG7: 9.7055813e+09 | FH7: 1.0194612e+10 | FI7: 1.0334752e+10 | FJ7: 1.0081643e+10 | FK7: 1.0035662e+10 | FL7: 1.035191e+10 | FM7: 9.1947599e+09 | FN7: 9.0626246e+09 | FO7: 8.8612542e+09 | FP7: 1.0194854e+10 | FQ7: 9.2488783e+09 | FR7: 1.0201563e+10 | FS7: 9.889585e+09 | FT7: 1.0324122e+10 | FU7: 1.0753051e+10 | FV7: 1.0260673e+10 | FW7: 1.0089157e+10 | FX7: 1.0414417e+10 | FY7: 9.144238e+09 | FZ7: 9.5791989e+09 | GA7: 8.6500501e+09 | GB7: 1.0098286e+10 | GC7: 8.7594851e+09 | GD7: 9.9316707e+09 | GE7: 9.5314173e+09 | GF7: 9.9617091e+09 | GG7: 1.0587869e+10 | GH7: 1.000244e+10 | GI7: 1.0343311e+10 | GJ7: 1.0579323e+10 | GK7: 9.3125324e+09 | GL7: 9.7332233e+09 | GM7: 9.371562e+09 | GN7: 9.5787946e+09 | GO7: 1.0218225e+10 | GP7: 1.0050394e+10 | GQ7: 9.9541247e+09 | GR7: 1.0875977e+10 | GS7: 1.1083613e+10 | GT7: 1.0734906e+10 | GU7: 1.1623961e+10 | GV7: 1.1084611e+10 | GW7: 9.4982711e+09 | GX7: 1.023237e+10 | GY7: 1.0011963e+10 | GZ7: 1.0748545e+10 | HA7: 1.0184815e+10 | HB7: 1.0717628e+10 | HC7: 1.0081646e+10 | HD7: 1.0842381e+10 | HE7: 1.0526199e+10 | HF7: 1.0640081e+10 | HG7: 1.0980015e+10 | HH7: 1.0223625e+10 | HI7: 9.0900059e+09 | HJ7: 9.280423e+09 | HK7: 8.7022307e+09 | HL7: 9.8627127e+09 | HM7: 9.4185793e+09 | HN7: 9.7102476e+09 | HO7: 9.0501804e+09 | HP7: 9.8312949e+09
A8: Lojas de móveis e decoração | B8: 8.6496954e+08 | C8: 8.5052855e+08 | D8: 9.0203719e+08 | E8: 8.8817185e+08 | F8: 8.6846e+08 | G8: 8.7142598e+08 | H8: 9.6672918e+08 | I8: 9.4623015e+08 | J8: 9.5718908e+08 | K8: 9.6390231e+08 | L8: 9.3643687e+08 | M8: 1.1369836e+09 | N8: 9.0405475e+08 | O8: 8.512807e+08 | P8: 9.0875629e+08 | Q8: 8.2777326e+08 | R8: 8.8451641e+08 | S8: 9.1776645e+08 | T8: 9.7569845e+08 | U8: 9.8102426e+08 | V8: 9.9562705e+08 | W8: 1.0578422e+09 | X8: 1.0928987e+09 | Y8: 1.2442424e+09 | Z8: 9.856427e+08 | AA8: 9.655477e+08 | AB8: 1.1116751e+09 | AC8: 9.8865964e+08 | AD8: 1.0771547e+09 | AE8: 1.037443e+09 | AF8: 1.1536482e+09 | AG8: 1.1180778e+09 | AH8: 1.1159473e+09 | AI8: 1.1567577e+09 | AJ8: 1.2564968e+09 | AK8: 1.3727229e+09 | AL8: 1.1873606e+09 | AM8: 1.130901e+09 | AN8: 1.2051048e+09 | AO8: 1.1109999e+09 | AP8: 1.228226e+09 | AQ8: 1.2089301e+09 | AR8: 1.3450838e+09 | AS8: 1.3824572e+09 | AT8: 1.2953847e+09 | AU8: 1.3383831e+09 | AV8: 1.458174e+09 | AW8: 1.6066047e+09 | AX8: 1.268608e+09 | AY8: 1.1831087e+09 | AZ8: 1.3347403e+09 | BA8: 1.1645802e+09 | BB8: 1.2873727e+09 | BC8: 1.2019209e+09 | BD8: 1.4187958e+09 | BE8: 1.378454e+09 | BF8: 1.2361246e+09 | BG8: 1.4258279e+09 | BH8: 1.3757063e+09 | BI8: 1.4268113e+09 | BJ8: 1.2423306e+09 | BK8: 1.0522346e+09 | BL8: 1.168457e+09 | BM8: 1.2045463e+09 | BN8: 1.220911e+09 | BO8: 1.182604e+09 | BP8: 1.3786905e+09 | BQ8: 1.4062104e+09 | BR8: 1.3016153e+09 | BS8: 1.4678169e+09 | BT8: 1.5121385e+09 | BU8: 1.4922538e+09 | BV8: 1.2308119e+09 | BW8: 1.1542925e+09 | BX8: 1.1542284e+09 | BY8: 1.1813802e+09 | BZ8: 1.240316e+09 | CA8: 1.1510077e+09 | CB8: 1.3193717e+09 | CC8: 1.3172447e+09 | CD8: 1.3218807e+09 | CE8: 1.343297e+09 | CF8: 1.2527178e+09 | CG8: 1.348693e+09 | CH8: 9.8614825e+08 | CI8: 9.4674134e+08 | CJ8: 1.0917396e+09 | CK8: 1.0297924e+09 | CL8: 1.0633379e+09 | CM8: 1.0782088e+09 | CN8: 1.1668791e+09 | CO8: 1.1308523e+09 | CP8: 1.0920739e+09 | CQ8: 1.0974769e+09 | CR8: 1.1522426e+09 | CS8: 1.2950487e+09 | CT8: 9.6634377e+08 | CU8: 9.6932261e+08 | CV8: 1.0385321e+09 | CW8: 9.231073e+08 | CX8: 9.5128517e+08 | CY8: 9.8074942e+08 | CZ8: 1.0018211e+09 | DA8: 1.0608128e+09 | DB8: 1.0414681e+09 | DC8: 1.0678109e+09 | DD8: 1.1720141e+09 | DE8: 1.2865385e+09 | DF8: 1.0343195e+09 | DG8: 9.5232249e+08 | DH8: 1.0883015e+09 | DI8: 9.6322556e+08 | DJ8: 1.0746096e+09 | DK8: 1.0458595e+09 | DL8: 1.1495509e+09 | DM8: 1.2171371e+09 | DN8: 1.1224344e+09 | DO8: 1.1925214e+09 | DP8: 1.3038273e+09 | DQ8: 1.4068492e+09 | DR8: 1.179041e+09 | DS8: 1.1148865e+09 | DT8: 1.2121772e+09 | DU8: 1.1542512e+09 | DV8: 1.0386267e+09 | DW8: 1.1450358e+09 | DX8: 1.2412581e+09 | DY8: 1.2807025e+09 | DZ8: 1.2290613e+09 | EA8: 1.3861178e+09 | EB8: 1.5300809e+09 | EC8: 1.5888771e+09 | ED8: 1.3700497e+09 | EE8: 1.3108553e+09 | EF8: 1.3271819e+09 | EG8: 1.2933531e+09 | EH8: 1.3686096e+09 | EI8: 1.2755856e+09 | EJ8: 1.5083113e+09 | EK8: 1.4946875e+09 | EL8: 1.4064228e+09 | EM8: 1.5067902e+09 | EN8: 1.634679e+09 | EO8: 1.6824175e+09 | EP8: 1.5098424e+09 | EQ8: 1.4785608e+09 | ER8: 1.2420178e+09 | ES8: 6.5668528e+08 | ET8: 1.1230911e+09 | EU8: 1.5879109e+09 | EV8: 1.6051375e+09 | EW8: 1.7120895e+09 | EX8: 1.7730747e+09 | EY8: 1.7971955e+09 | EZ8: 1.9423382e+09 | FA8: 1.8078926e+09 | FB8: 1.4746831e+09 | FC8: 1.458812e+09 | FD8: 1.3712256e+09 | FE8: 1.3443502e+09 | FF8: 1.6571111e+09 | FG8: 1.59655e+09 | FH8: 1.7006394e+09 | FI8: 1.6216583e+09 | FJ8: 1.6778341e+09 | FK8: 1.624427e+09 | FL8: 1.9774993e+09 | FM8: 2.4561892e+09 | FN8: 1.5423263e+09 | FO8: 1.417405e+09 | FP8: 1.6295707e+09 | FQ8: 1.5454378e+09 | FR8: 1.5950942e+09 | FS8: 1.606936e+09 | FT8: 1.6480537e+09 | FU8: 1.7232811e+09 | FV8: 1.5852745e+09 | FW8: 1.5930703e+09 | FX8: 1.9083134e+09 | FY8: 1.8409136e+09 | FZ8: 1.5478365e+09 | GA8: 1.4660596e+09 | GB8: 1.7476443e+09 | GC8: 1.456462e+09 | GD8: 1.543829e+09 | GE8: 1.4466959e+09 | GF8: 1.5000273e+09 | GG8: 1.6287381e+09 | GH8: 1.4314458e+09 | GI8: 1.5242293e+09 | GJ8: 1.8204255e+09 | GK8: 1.712601e+09 | GL8: 1.6557733e+09 | GM8: 1.5066845e+09 | GN8: 1.5388576e+09 | GO8: 1.6247059e+09 | GP8: 1.6329649e+09 | GQ8: 1.7113342e+09 | GR8: 1.7757001e+09 | GS8: 1.7574457e+09 | GT8: 1.7571817e+09 | GU8: 1.900278e+09 | GV8: 1.9883571e+09 | GW8: 1.9620307e+09 | GX8: 1.6017671e+09 | GY8: 1.5997062e+09 | GZ8: 1.6943593e+09 | HA8: 1.7007418e+09 | HB8: 1.7372703e+09 | HC8: 1.5411117e+09 | HD8: 1.7454869e+09 | HE8: 1.6300354e+09 | HF8: 1.5666343e+09 | HG8: 1.5982944e+09 | HH8: 1.9695429e+09 | HI8: 1.9569574e+09 | HJ8: 1.3965969e+09 | HK8: 1.3778541e+09 | HL8: 1.7324978e+09 | HM8: 1.60068e+09 | HN8: 1.5450316e+09 | HO8: 1.4943546e+09 | HP8: 1.650155e+09
A9: Lojas de vestuário, tecidos e calçados | B9: 4.1016247e+09 | C9: 3.9881461e+09 | D9: 4.7992413e+09 | E9: 5.1397462e+09 | F9: 6.3047466e+09 | G9: 5.5328282e+09 | H9: 5.3969392e+09 | I9: 5.2822607e+09 | J9: 4.9304245e+09 | K9: 5.1305025e+09 | L9: 5.6849558e+09 | M9: 9.3511973e+09 | N9: 4.1431719e+09 | O9: 3.8978058e+09 | P9: 4.729245e+09 | Q9: 5.0303766e+09 | R9: 5.9044149e+09 | S9: 6.2061841e+09 | T9: 5.6518355e+09 | U9: 5.2995737e+09 | V9: 4.9411479e+09 | W9: 5.6921724e+09 | X9: 6.1900947e+09 | Y9: 1.0659588e+10 | Z9: 4.6538952e+09 | AA9: 4.4592012e+09 | AB9: 5.4296041e+09 | AC9: 5.9528736e+09 | AD9: 7.0381459e+09 | AE9: 6.4590313e+09 | AF9: 6.3692711e+09 | AG9: 6.3102559e+09 | AH9: 5.8286795e+09 | AI9: 6.4402461e+09 | AJ9: 6.9696432e+09 | AK9: 1.2197203e+10 | AL9: 5.2757489e+09 | AM9: 5.3136256e+09 | AN9: 6.3034799e+09 | AO9: 6.4379873e+09 | AP9: 7.8313394e+09 | AQ9: 7.8584861e+09 | AR9: 7.1375998e+09 | AS9: 6.9760853e+09 | AT9: 6.3096257e+09 | AU9: 6.8598826e+09 | AV9: 7.6299956e+09 | AW9: 1.3324056e+10 | AX9: 5.6941522e+09 | AY9: 5.5532271e+09 | AZ9: 6.743827e+09 | BA9: 6.7702313e+09 | BB9: 8.5272e+09 | BC9: 7.8413145e+09 | BD9: 7.6476574e+09 | BE9: 7.4343605e+09 | BF9: 6.902202e+09 | BG9: 7.3952297e+09 | BH9: 7.9925083e+09 | BI9: 1.3475266e+10 | BJ9: 6.3749122e+09 | BK9: 5.3746723e+09 | BL9: 6.716234e+09 | BM9: 7.2473209e+09 | BN9: 8.3337547e+09 | BO9: 7.7629492e+09 | BP9: 8.1129854e+09 | BQ9: 7.8605057e+09 | BR9: 7.0658635e+09 | BS9: 8.0934457e+09 | BT9: 8.7939757e+09 | BU9: 1.4475991e+10 | BV9: 6.6156363e+09 | BW9: 5.9407577e+09 | BX9: 6.5507517e+09 | BY9: 6.8381137e+09 | BZ9: 8.4259986e+09 | CA9: 6.984087e+09 | CB9: 7.3833295e+09 | CC9: 7.5046686e+09 | CD9: 7.4154744e+09 | CE9: 7.7011346e+09 | CF9: 8.3721421e+09 | CG9: 1.2401449e+10 | CH9: 5.6596335e+09 | CI9: 5.1231663e+09 | CJ9: 5.8941839e+09 | CK9: 7.0369753e+09 | CL9: 8.1670525e+09 | CM9: 6.5485337e+09 | CN9: 6.5836407e+09 | CO9: 6.0064062e+09 | CP9: 5.6243013e+09 | CQ9: 6.3982965e+09 | CR9: 6.8947316e+09 | CS9: 1.1159524e+10 | CT9: 5.6075714e+09 | CU9: 4.8536719e+09 | CV9: 5.2958509e+09 | CW9: 5.5197478e+09 | CX9: 6.8782626e+09 | CY9: 6.9248264e+09 | CZ9: 5.9829254e+09 | DA9: 5.6425906e+09 | DB9: 5.354271e+09 | DC9: 5.9106238e+09 | DD9: 6.7556284e+09 | DE9: 1.1145466e+10 | DF9: 5.3149144e+09 | DG9: 4.8101104e+09 | DH9: 5.6520876e+09 | DI9: 6.0712226e+09 | DJ9: 6.8657338e+09 | DK9: 6.8459736e+09 | DL9: 6.718637e+09 | DM9: 6.3053538e+09 | DN9: 5.7931654e+09 | DO9: 6.0930731e+09 | DP9: 6.9355857e+09 | DQ9: 1.1584704e+10 | DR9: 5.5989237e+09 | DS9: 4.8826153e+09 | DT9: 5.8286463e+09 | DU9: 6.1983853e+09 | DV9: 6.8070995e+09 | DW9: 7.1821973e+09 | DX9: 6.6932811e+09 | DY9: 7.0339622e+09 | DZ9: 6.3223686e+09 | EA9: 6.479625e+09 | EB9: 7.5745918e+09 | EC9: 1.1954612e+10 | ED9: 5.8920063e+09 | EE9: 5.4530101e+09 | EF9: 6.0840002e+09 | EG9: 6.2124085e+09 | EH9: 7.2297934e+09 | EI9: 7.4799308e+09 | EJ9: 7.4497753e+09 | EK9: 7.0789467e+09 | EL9: 6.5958862e+09 | EM9: 7.1006197e+09 | EN9: 8.3534035e+09 | EO9: 1.2573703e+10 | EP9: 6.4604069e+09 | EQ9: 6.0327078e+09 | ER9: 4.0924849e+09 | ES9: 1.3789709e+09 | ET9: 2.5724024e+09 | EU9: 4.9691378e+09 | EV9: 5.7402586e+09 | EW9: 6.115852e+09 | EX9: 6.0092331e+09 | EY9: 7.0135278e+09 | EZ9: 7.9929373e+09 | FA9: 1.1363448e+10 | FB9: 4.9129961e+09 | FC9: 5.1477711e+09 | FD9: 2.8161325e+09 | FE9: 4.0766826e+09 | FF9: 7.5651769e+09 | FG9: 7.1582227e+09 | FH9: 7.7178597e+09 | FI9: 6.9961984e+09 | FJ9: 6.6255664e+09 | FK9: 7.5990491e+09 | FL9: 8.7396632e+09 | FM9: 1.297675e+10 | FN9: 6.1570012e+09 | FO9: 6.1320342e+09 | FP9: 7.0901183e+09 | FQ9: 7.7902542e+09 | FR9: 9.682304e+09 | FS9: 8.4769711e+09 | FT9: 7.6802115e+09 | FU9: 7.8511833e+09 | FV9: 7.3947232e+09 | FW9: 7.7024673e+09 | FX9: 8.7621297e+09 | FY9: 1.379623e+10 | FZ9: 6.842157e+09 | GA9: 6.319275e+09 | GB9: 7.7829652e+09 | GC9: 8.2815454e+09 | GD9: 9.3974634e+09 | GE9: 9.559256e+09 | GF9: 8.7065038e+09 | GG9: 8.2979916e+09 | GH9: 7.8329772e+09 | GI9: 8.2163125e+09 | GJ9: 9.6192747e+09 | GK9: 1.535911e+10 | GL9: 7.4571813e+09 | GM9: 6.8216218e+09 | GN9: 8.2880078e+09 | GO9: 8.4917926e+09 | GP9: 9.8602627e+09 | GQ9: 9.9547168e+09 | GR9: 9.9945077e+09 | GS9: 9.9240947e+09 | GT9: 8.9500824e+09 | GU9: 9.3975134e+09 | GV9: 1.1607842e+10 | GW9: 1.6881959e+10 | GX9: 8.4563592e+09 | GY9: 8.2514315e+09 | GZ9: 9.1755739e+09 | HA9: 1.0007903e+10 | HB9: 1.1160294e+10 | HC9: 1.1653819e+10 | HD9: 1.0253202e+10 | HE9: 1.0340404e+10 | HF9: 9.4791146e+09 | HG9: 9.9382492e+09 | HH9: 1.1720835e+10 | HI9: 1.6213216e+10 | HJ9: 8.8196558e+09 | HK9: 7.9696487e+09 | HL9: 9.404706e+09 | HM9: 9.2487023e+09 | HN9: 1.1582371e+10 | HO9: 1.0810296e+10 | HP9: 9.1754588e+09
A10: Supermercados | B10: 1.4884441e+10 | C10: 1.4568939e+10 | D10: 1.6765788e+10 | E10: 1.5377865e+10 | F10: 1.6642981e+10 | G10: 1.565361e+10 | H10: 1.6473066e+10 | I10: 1.7033289e+10 | J10: 1.6195335e+10 | K10: 1.7231594e+10 | L10: 1.7347062e+10 | M10: 2.1489486e+10 | N10: 1.7065796e+10 | O10: 1.6146018e+10 | P10: 1.7556503e+10 | Q10: 1.8396274e+10 | R10: 1.809775e+10 | S10: 1.715669e+10 | T10: 1.8201871e+10 | U10: 1.8768555e+10 | V10: 1.811257e+10 | W10: 1.9677067e+10 | X10: 1.9205101e+10 | Y10: 2.4343229e+10 | Z10: 1.9164544e+10 | AA10: 1.8641746e+10 | AB10: 2.0945412e+10 | AC10: 2.0251895e+10 | AD10: 2.0400609e+10 | AE10: 1.9601597e+10 | AF10: 2.0648488e+10 | AG10: 2.0584941e+10 | AH10: 2.0600296e+10 | AI10: 2.1863656e+10 | AJ10: 2.1273717e+10 | AK10: 2.6991779e+10 | AL10: 2.1096202e+10 | AM10: 2.0197406e+10 | AN10: 2.1990681e+10 | AO10: 2.3003923e+10 | AP10: 2.1313509e+10 | AQ10: 2.087128e+10 | AR10: 2.286297e+10 | AS10: 2.2090704e+10 | AT10: 2.1996549e+10 | AU10: 2.2984018e+10 | AV10: 2.2626987e+10 | AW10: 2.8353518e+10 | AX10: 2.173976e+10 | AY10: 2.1460669e+10 | AZ10: 2.3454536e+10 | BA10: 2.2551849e+10 | BB10: 2.204248e+10 | BC10: 2.2245034e+10 | BD10: 2.2627982e+10 | BE10: 2.3391136e+10 | BF10: 2.3504242e+10 | BG10: 2.404053e+10 | BH10: 2.4102749e+10 | BI10: 2.967615e+10 | BJ10: 2.1956694e+10 | BK10: 2.054619e+10 | BL10: 2.4925779e+10 | BM10: 2.190057e+10 | BN10: 2.3621134e+10 | BO10: 2.2713417e+10 | BP10: 2.3990242e+10 | BQ10: 2.5310708e+10 | BR10: 2.4184636e+10 | BS10: 2.5417694e+10 | BT10: 2.6553998e+10 | BU10: 3.1308473e+10 | BV10: 2.454709e+10 | BW10: 2.2896293e+10 | BX10: 2.4237808e+10 | BY10: 2.4513286e+10 | BZ10: 2.4314221e+10 | CA10: 2.3380172e+10 | CB10: 2.4138713e+10 | CC10: 2.5051964e+10 | CD10: 2.387424e+10 | CE10: 2.5476892e+10 | CF10: 2.6012627e+10 | CG10: 3.05388e+10 | CH10: 2.4828342e+10 | CI10: 2.2882894e+10 | CJ10: 2.505097e+10 | CK10: 2.4938522e+10 | CL10: 2.497971e+10 | CM10: 2.3715778e+10 | CN10: 2.5122075e+10 | CO10: 2.5828991e+10 | CP10: 2.4962209e+10 | CQ10: 2.7278964e+10 | CR10: 2.6928959e+10 | CS10: 3.280387e+10 | CT10: 2.6345585e+10 | CU10: 2.6203708e+10 | CV10: 2.6741099e+10 | CW10: 2.5873223e+10 | CX10: 2.5540234e+10 | CY10: 2.514261e+10 | CZ10: 2.7043707e+10 | DA10: 2.6695802e+10 | DB10: 2.6272369e+10 | DC10: 2.7533802e+10 | DD10: 2.773518e+10 | DE10: 3.3653399e+10 | DF10: 2.6131151e+10 | DG10: 2.5833497e+10 | DH10: 2.7337357e+10 | DI10: 2.8477928e+10 | DJ10: 2.6504308e+10 | DK10: 2.6273074e+10 | DL10: 2.7428467e+10 | DM10: 2.7209137e+10 | DN10: 2.7761236e+10 | DO10: 2.7811557e+10 | DP10: 2.8751303e+10 | DQ10: 3.4165848e+10 | DR10: 2.6381955e+10 | DS10: 2.5773725e+10 | DT10: 3.0079181e+10 | DU10: 2.7273933e+10 | DV10: 2.7629525e+10 | DW10: 2.6821656e+10 | DX10: 2.7661739e+10 | DY10: 2.8284413e+10 | DZ10: 2.8262747e+10 | EA10: 2.8428974e+10 | EB10: 3.0009278e+10 | EC10: 3.5985591e+10 | ED10: 2.8335032e+10 | EE10: 2.7045221e+10 | EF10: 3.0343156e+10 | EG10: 2.9853032e+10 | EH10: 2.8794686e+10 | EI10: 2.8261985e+10 | EJ10: 2.8740939e+10 | EK10: 3.0095819e+10 | EL10: 2.8800453e+10 | EM10: 3.0494656e+10 | EN10: 3.236966e+10 | EO10: 3.7109082e+10 | EP10: 2.9218985e+10 | EQ10: 2.9447669e+10 | ER10: 3.4099408e+10 | ES10: 3.2537199e+10 | ET10: 3.4586378e+10 | EU10: 3.2866169e+10 | EV10: 3.425739e+10 | EW10: 3.484258e+10 | EX10: 3.4049426e+10 | EY10: 3.6203721e+10 | EZ10: 3.5714003e+10 | FA10: 4.2031278e+10 | FB10: 3.3585882e+10 | FC10: 3.1479624e+10 | FD10: 3.5537099e+10 | FE10: 3.3781243e+10 | FF10: 3.4215072e+10 | FG10: 3.2946991e+10 | FH10: 3.4944996e+10 | FI10: 3.4197386e+10 | FJ10: 3.3471413e+10 | FK10: 3.5183802e+10 | FL10: 3.4952526e+10 | FM10: 4.1120009e+10 | FN10: 3.2581356e+10 | FO10: 3.2239244e+10 | FP10: 3.517346e+10 | FQ10: 3.7016424e+10 | FR10: 3.5617496e+10 | FS10: 3.5322987e+10 | FT10: 3.7796653e+10 | FU10: 3.7242802e+10 | FV10: 3.7092344e+10 | FW10: 3.9552189e+10 | FX10: 4.013943e+10 | FY10: 4.7256239e+10 | FZ10: 3.7545387e+10 | GA10: 3.6002509e+10 | GB10: 3.9645676e+10 | GC10: 4.0573145e+10 | GD10: 3.893258e+10 | GE10: 3.8926731e+10 | GF10: 4.0069579e+10 | GG10: 3.956561e+10 | GH10: 4.0071566e+10 | GI10: 4.0224575e+10 | GJ10: 4.1967407e+10 | GK10: 4.99957e+10 | GL10: 3.9551995e+10 | GM10: 3.9578722e+10 | GN10: 4.4815976e+10 | GO10: 4.0488123e+10 | GP10: 4.4247175e+10 | GQ10: 4.2167251e+10 | GR10: 4.2628856e+10 | GS10: 4.4350523e+10 | GT10: 4.2375869e+10 | GU10: 4.467656e+10 | GV10: 4.6797016e+10 | GW10: 5.2924022e+10 | GX10: 4.3371676e+10 | GY10: 4.1641875e+10 | GZ10: 4.6382983e+10 | HA10: 4.7160741e+10 | HB10: 4.6358613e+10 | HC10: 4.3758895e+10 | HD10: 4.4692259e+10 | HE10: 4.5744866e+10 | HF10: 4.342046e+10 | HG10: 4.5624195e+10 | HH10: 4.6356288e+10 | HI10: 5.1983375e+10 | HJ10: 4.2535387e+10 | HK10: 4.0200159e+10 | HL10: 4.4082745e+10 | HM10: 4.3539442e+10 | HN10: 4.3405683e+10 | HO10: 4.1195135e+10 | HP10: 4.2042872e+10
A11: Outras atividades | B11: 1.3075883e+10 | C11: 1.2377121e+10 | D11: 1.3456252e+10 | E11: 1.334262e+10 | F11: 1.3752061e+10 | G11: 1.355325e+10 | H11: 1.414036e+10 | I11: 1.4278329e+10 | J11: 1.4092375e+10 | K11: 1.5148231e+10 | L11: 1.4587086e+10 | M11: 1.5871853e+10 | N11: 1.31418e+10 | O11: 1.3283573e+10 | P11: 1.4310759e+10 | Q11: 1.3433613e+10 | R11: 1.3070569e+10 | S11: 1.3330827e+10 | T11: 1.3827218e+10 | U11: 1.4027645e+10 | V11: 1.4088948e+10 | W11: 1.5642269e+10 | X11: 1.5181079e+10 | Y11: 1.7376233e+10 | Z11: 1.4320851e+10 | AA11: 1.4030119e+10 | AB11: 1.5587577e+10 | AC11: 1.4326224e+10 | AD11: 1.4969109e+10 | AE11: 1.4100918e+10 | AF11: 1.4805436e+10 | AG11: 1.577483e+10 | AH11: 1.5303772e+10 | AI11: 1.6203575e+10 | AJ11: 1.616866e+10 | AK11: 1.8585364e+10 | AL11: 1.5168308e+10 | AM11: 1.5446592e+10 | AN11: 1.6802846e+10 | AO11: 1.6617725e+10 | AP11: 1.7004619e+10 | AQ11: 1.6220068e+10 | AR11: 1.6482497e+10 | AS11: 1.7572711e+10 | AT11: 1.719853e+10 | AU11: 1.7211106e+10 | AV11: 1.7334081e+10 | AW11: 1.9395985e+10 | AX11: 1.5632297e+10 | AY11: 1.5162611e+10 | AZ11: 1.6996617e+10 | BA11: 1.554721e+10 | BB11: 1.6264154e+10 | BC11: 1.5705574e+10 | BD11: 1.6139618e+10 | BE11: 1.7409081e+10 | BF11: 1.6488445e+10 | BG11: 1.7743439e+10 | BH11: 1.7262351e+10 | BI11: 1.8677984e+10 | BJ11: 1.5421296e+10 | BK11: 1.3883031e+10 | BL11: 1.6008664e+10 | BM11: 1.5743314e+10 | BN11: 1.6283105e+10 | BO11: 1.540112e+10 | BP11: 1.6787627e+10 | BQ11: 1.8911531e+10 | BR11: 1.8588813e+10 | BS11: 1.9467543e+10 | BT11: 1.8994207e+10 | BU11: 2.0552814e+10 | BV11: 1.7534476e+10 | BW11: 1.7063247e+10 | BX11: 1.693141e+10 | BY11: 1.6628136e+10 | BZ11: 1.7455216e+10 | CA11: 1.546466e+10 | CB11: 1.6482204e+10 | CC11: 1.7298889e+10 | CD11: 1.910065e+10 | CE11: 2.0387306e+10 | CF11: 2.0071234e+10 | CG11: 2.0531346e+10 | CH11: 1.7190074e+10 | CI11: 1.713974e+10 | CJ11: 1.7351847e+10 | CK11: 1.6313328e+10 | CL11: 1.6806272e+10 | CM11: 1.4873623e+10 | CN11: 1.4826148e+10 | CO11: 1.5064564e+10 | CP11: 1.5321886e+10 | CQ11: 1.6650263e+10 | CR11: 1.6937814e+10 | CS11: 1.8971364e+10 | CT11: 1.5299789e+10 | CU11: 1.5598221e+10 | CV11: 1.6770595e+10 | CW11: 1.5880917e+10 | CX11: 1.576092e+10 | CY11: 1.5517164e+10 | CZ11: 1.5590999e+10 | DA11: 1.6260226e+10 | DB11: 1.6232108e+10 | DC11: 1.6905666e+10 | DD11: 1.7796039e+10 | DE11: 1.9585928e+10 | DF11: 1.635672e+10 | DG11: 1.5735707e+10 | DH11: 1.6601381e+10 | DI11: 1.5021326e+10 | DJ11: 1.6119304e+10 | DK11: 1.5567695e+10 | DL11: 1.5624641e+10 | DM11: 1.7048994e+10 | DN11: 1.6947229e+10 | DO11: 1.7462959e+10 | DP11: 1.8382893e+10 | DQ11: 2.0143205e+10 | DR11: 1.7382662e+10 | DS11: 1.6369519e+10 | DT11: 1.8148365e+10 | DU11: 1.7374487e+10 | DV11: 1.7533741e+10 | DW11: 1.6515039e+10 | DX11: 1.6715325e+10 | DY11: 1.7912458e+10 | DZ11: 1.7993041e+10 | EA11: 1.9059344e+10 | EB11: 1.9174082e+10 | EC11: 2.009251e+10 | ED11: 1.7341876e+10 | EE11: 1.6636643e+10 | EF11: 1.8290443e+10 | EG11: 1.8040545e+10 | EH11: 1.870208e+10 | EI11: 1.7171276e+10 | EJ11: 1.7381046e+10 | EK11: 1.8365473e+10 | EL11: 1.8279821e+10 | EM11: 1.9482829e+10 | EN11: 2.035671e+10 | EO11: 2.1598084e+10 | EP11: 1.9213465e+10 | EQ11: 1.8210481e+10 | ER11: 1.7422349e+10 | ES11: 1.2204407e+10 | ET11: 1.3787788e+10 | EU11: 1.5090471e+10 | EV11: 1.7575745e+10 | EW11: 1.7759013e+10 | EX11: 1.8617277e+10 | EY11: 2.0624147e+10 | EZ11: 2.1294535e+10 | FA11: 2.2964381e+10 | FB11: 1.9277582e+10 | FC11: 1.9026992e+10 | FD11: 2.1393094e+10 | FE11: 2.0358946e+10 | FF11: 2.3111615e+10 | FG11: 2.2788246e+10 | FH11: 2.3597394e+10 | FI11: 2.381659e+10 | FJ11: 2.431432e+10 | FK11: 2.5033121e+10 | FL11: 2.662446e+10 | FM11: 2.7300109e+10 | FN11: 2.3010916e+10 | FO11: 2.2284125e+10 | FP11: 2.6156654e+10 | FQ11: 2.5802589e+10 | FR11: 2.7136652e+10 | FS11: 2.5688498e+10 | FT11: 2.4740281e+10 | FU11: 2.4811869e+10 | FV11: 2.3198223e+10 | FW11: 2.2952222e+10 | FX11: 2.3050071e+10 | FY11: 2.4847335e+10 | FZ11: 2.1729217e+10 | GA11: 1.9839486e+10 | GB11: 2.2937499e+10 | GC11: 2.1002455e+10 | GD11: 2.2288897e+10 | GE11: 2.0979374e+10 | GF11: 2.1258481e+10 | GG11: 2.27407e+10 | GH11: 2.3335748e+10 | GI11: 2.3339474e+10 | GJ11: 2.3819413e+10 | GK11: 2.4341142e+10 | GL11: 2.1774488e+10 | GM11: 2.1512043e+10 | GN11: 2.2861564e+10 | GO11: 2.2657526e+10 | GP11: 2.331844e+10 | GQ11: 2.2670936e+10 | GR11: 2.340171e+10 | GS11: 2.4769564e+10 | GT11: 2.4350201e+10 | GU11: 2.5496309e+10 | GV11: 2.5670662e+10 | GW11: 2.6197464e+10 | GX11: 2.4165569e+10 | GY11: 2.3255578e+10 | GZ11: 2.5429639e+10 | HA11: 2.4551288e+10 | HB11: 2.5495029e+10 | HC11: 2.3426595e+10 | HD11: 2.3973236e+10 | HE11: 2.4066681e+10 | HF11: 2.4101521e+10 | HG11: 2.5544398e+10 | HH11: 2.4471522e+10 | HI11: 2.4998086e+10 | HJ11: 2.1839443e+10 | HK11: 2.0372631e+10 | HL11: 2.4114202e+10 | HM11: 2.2325663e+10 | HN11: 2.2050361e+10 | HO11: 2.0896454e+10 | HP11: 2.0730663e+10
A12: Total do Comércio Varejista | B12: 6.2898018e+10 | C12: 5.9204962e+10 | D12: 6.7292105e+10 | E12: 6.7323301e+10 | F12: 6.9802447e+10 | G12: 6.8297558e+10 | H12: 7.0361523e+10 | I12: 6.9465083e+10 | J12: 7.1202456e+10 | K12: 6.8921017e+10 | L12: 6.5121104e+10 | M12: 8.0380089e+10 | N12: 6.2408944e+10 | O12: 5.8311443e+10 | P12: 6.7762585e+10 | Q12: 6.4661418e+10 | R12: 6.7067272e+10 | S12: 6.9587404e+10 | T12: 6.8165107e+10 | U12: 6.9545639e+10 | V12: 7.2605898e+10 | W12: 7.3888693e+10 | X12: 7.3076222e+10 | Y12: 8.903406e+10 | Z12: 6.864052e+10 | AA12: 6.6259516e+10 | AB12: 8.0739633e+10 | AC12: 7.1290861e+10 | AD12: 7.4912081e+10 | AE12: 7.2226115e+10 | AF12: 7.5109488e+10 | AG12: 7.8575047e+10 | AH12: 7.7498259e+10 | AI12: 7.9873618e+10 | AJ12: 8.1739111e+10 | AK12: 9.8526123e+10 | AL12: 7.4533429e+10 | AM12: 7.3204133e+10 | AN12: 7.9851747e+10 | AO12: 7.8835839e+10 | AP12: 8.3102445e+10 | AQ12: 7.9669163e+10 | AR12: 8.1571575e+10 | AS12: 8.3459811e+10 | AT12: 8.2445861e+10 | AU12: 8.195576e+10 | AV12: 8.4283123e+10 | AW12: 1.0208904e+11 | AX12: 7.6386861e+10 | AY12: 7.2819824e+10 | AZ12: 8.2636613e+10 | BA12: 7.6284704e+10 | BB12: 8.1608647e+10 | BC12: 8.0462763e+10 | BD12: 8.1348706e+10 | BE12: 8.7167342e+10 | BF12: 7.9158622e+10 | BG12: 8.5678013e+10 | BH12: 8.4170494e+10 | BI12: 1.0080265e+11 | BJ12: 7.7352756e+10 | BK12: 6.7984882e+10 | BL12: 8.0601987e+10 | BM12: 7.9619794e+10 | BN12: 8.5604528e+10 | BO12: 8.2166486e+10 | BP12: 8.7408583e+10 | BQ12: 9.2605315e+10 | BR12: 8.6914304e+10 | BS12: 9.2755433e+10 | BT12: 9.2337468e+10 | BU12: 1.0462518e+11 | BV12: 8.2264162e+10 | BW12: 7.5026129e+10 | BX12: 7.7453806e+10 | BY12: 7.8521195e+10 | BZ12: 8.3931766e+10 | CA12: 7.627966e+10 | CB12: 8.0605904e+10 | CC12: 8.3444761e+10 | CD12: 8.4640171e+10 | CE12: 8.9247499e+10 | CF12: 8.9680449e+10 | CG12: 9.9782764e+10 | CH12: 7.7840125e+10 | CI12: 7.0773561e+10 | CJ12: 7.8723317e+10 | CK12: 7.6289587e+10 | CL12: 7.895263e+10 | CM12: 7.3485284e+10 | CN12: 7.5497701e+10 | CO12: 7.569374e+10 | CP12: 7.4321788e+10 | CQ12: 8.0100497e+10 | CR12: 8.0586387e+10 | CS12: 9.5494323e+10 | CT12: 7.4172428e+10 | CU12: 7.2656393e+10 | CV12: 7.6689152e+10 | CW12: 7.3770425e+10 | CX12: 7.5436126e+10 | CY12: 7.5083882e+10 | CZ12: 7.6111195e+10 | DA12: 7.723444e+10 | DB12: 7.5988899e+10 | DC12: 7.928816e+10 | DD12: 8.3438452e+10 | DE12: 9.8391148e+10 | DF12: 7.7300477e+10 | DG12: 7.2065798e+10 | DH12: 7.9957968e+10 | DI12: 7.6129255e+10 | DJ12: 7.966761e+10 | DK12: 7.8634661e+10 | DL12: 8.0084212e+10 | DM12: 8.2240587e+10 | DN12: 8.0879887e+10 | DO12: 8.2694233e+10 | DP12: 8.7235168e+10 | DQ12: 1.0083606e+11 | DR12: 8.176492e+10 | DS12: 7.535769e+10 | DT12: 8.6005213e+10 | DU12: 8.168425e+10 | DV12: 8.2321944e+10 | DW12: 8.1355416e+10 | DX12: 8.2285134e+10 | DY12: 8.7105537e+10 | DZ12: 8.4055545e+10 | EA12: 8.8005819e+10 | EB12: 9.2743101e+10 | EC12: 1.0486158e+11 | ED12: 8.561597e+10 | EE12: 8.0805567e+10 | EF12: 8.6995127e+10 | EG12: 8.6919581e+10 | EH12: 8.9249942e+10 | EI12: 8.5378605e+10 | EJ12: 8.8987531e+10 | EK12: 9.1748915e+10 | EL12: 8.8646786e+10 | EM12: 9.4747937e+10 | EN12: 9.9691204e+10 | EO12: 1.1110241e+11 | EP12: 9.0873731e+10 | EQ12: 8.6863867e+10 | ER12: 8.8140406e+10 | ES12: 6.7080775e+10 | ET12: 7.7383677e+10 | EU12: 8.7790512e+10 | EV12: 9.506478e+10 | EW12: 9.7318336e+10 | EX12: 9.7936611e+10 | EY12: 1.054095e+11 | EZ12: 1.0799953e+11 | FA12: 1.2022141e+11 | FB12: 9.3936443e+10 | FC12: 8.9944956e+10 | FD12: 9.3723832e+10 | FE12: 9.2615586e+10 | FF12: 1.0404482e+11 | FG12: 1.0271576e+11 | FH12: 1.0664193e+11 | FI12: 1.0536525e+11 | FJ12: 1.0366039e+11 | FK12: 1.0657967e+11 | FL12: 1.127836e+11 | FM12: 1.2462108e+11 | FN12: 9.9142002e+10 | FO12: 9.7065239e+10 | FP12: 1.0988876e+11 | FQ12: 1.0929646e+11 | FR12: 1.1547094e+11 | FS12: 1.1146428e+11 | FT12: 1.1122009e+11 | FU12: 1.1340345e+11 | FV12: 1.0967098e+11 | FW12: 1.1222305e+11 | FX12: 1.1685429e+11 | FY12: 1.3067985e+11 | FZ12: 1.0727661e+11 | GA12: 1.0060854e+11 | GB12: 1.1732126e+11 | GC12: 1.1130719e+11 | GD12: 1.164577e+11 | GE12: 1.1471492e+11 | GF12: 1.1570021e+11 | GG12: 1.1855394e+11 | GH12: 1.159073e+11 | GI12: 1.1832902e+11 | GJ12: 1.2541829e+11 | GK12: 1.3933531e+11 | GL12: 1.1436899e+11 | GM12: 1.118934e+11 | GN12: 1.2396513e+11 | GO12: 1.2043311e+11 | GP12: 1.2709463e+11 | GQ12: 1.2462744e+11 | GR12: 1.2827585e+11 | GS12: 1.316297e+11 | GT12: 1.266189e+11 | GU12: 1.3409709e+11 | GV12: 1.3930994e+11 | GW12: 1.4946414e+11 | GX12: 1.2570168e+11 | GY12: 1.2181091e+11 | GZ12: 1.3319303e+11 | HA12: 1.3219984e+11 | HB12: 1.3648142e+11 | HC12: 1.3006933e+11 | HD12: 1.3306323e+11 | HE12: 1.3303205e+11 | HF12: 1.2887496e+11 | HG12: 1.353994e+11 | HH12: 1.371674e+11 | HI12: 1.4672674e+11 | HJ12: 1.2135229e+11 | HK12: 1.1271765e+11 | HL12: 1.2960869e+11 | HM12: 1.2307842e+11 | HN12: 1.2703369e+11 | HO12: 1.2095376e+11 | HP12: 1.2232984e+11
A14: Fonte: FecomercioSP e Sefaz/SP
A15: 1) a preços de jul-26
A16: 2) Composição do grupo "Outras Atividades": combustíveis para veículos automotores; lubrificantes; livros, jornais, revistas e papelaria; artigos recreativos e esportivos; joias e relógios; gás liquefeito de petróleo (GLP); artigos usados e produtos novos não especificados.

Sheet PCCV - DRT01 Capital
A1: Pesquisa Conjuntural do Comércio Varejista - PCCV (DRT01 - Capital) | P1: Variação (%)
A2: Faturamento Real (R$ mil)¹ | B2: ='Série Histórica - DRT01 Capital'!HD2 -> 45839 | C2: ='Série Histórica - DRT01 Capital'!HE2 -> 45870 | D2: ='Série Histórica - DRT01 Capital'!HF2 -> 45901 | E2: ='Série Histórica - DRT01 Capital'!HG2 -> 45931 | F2: ='Série Histórica - DRT01 Capital'!HH2 -> 45962 | G2: ='Série Histórica - DRT01 Capital'!HI2 -> 45992 | H2: ='Série Histórica - DRT01 Capital'!HJ2 -> 46023 | I2: ='Série Histórica - DRT01 Capital'!HK2 -> 46054 | ... N2: ='Série Histórica - DRT01 Capital'!HP2 -> 46204 | P2: jul-26/jul-25 | Q2: Acum. Ano | R2: Acum. 12 meses
A3: Autopeças e Acessórios | B3: ='Série Histórica - DRT01 Capital'!HD3 -> 1.195742e+09 | C3: ='Série Histórica - DRT01 Capital'!HE3 -> 1.158298e+09 | D3: ='Série Histórica - DRT01 Capital'!HF3 -> 1.1599452e+09 | E3: ='Série Histórica - DRT01 Capital'!HG3 -> 1.1835267e+09 | F3: ='Série Histórica - DRT01 Capital'!HH3 -> 1.1781545e+09 | G3: ='Série Histórica - DRT01 Capital'!HI3 -> 1.1552935e+09 | H3: ='Série Histórica - DRT01 Capital'!HJ3 -> 1.1238522e+09 | I3: ='Série Histórica - DRT01 Capital'!HK3 -> 1.0277332e+09 | ... N3: ='Série Histórica - DRT01 Capital'!HP3 -> 1.1482747e+09 | P3: =(N3/B3-1)*100 -> -3.9696904 | Q3: =(SUM('Série Histórica - DRT01 Capital'!HJ3:HP3)/SUM('Série Histórica - DRT01 Capital'!GX3:HD3)-1)*100 -> -7.5019618 | R3: =(SUM('Série Histórica - DRT01 Capital'!HE3:HP3)/SUM('Série Histórica - DRT01 Capital'!GS3:HD3)-1)*100 -> -6.7226951
A4: Concessionárias de Veículos | B4: ='Série Histórica - DRT01 Capital'!HD4 -> 6.2684598e+09 | C4: ='Série Histórica - DRT01 Capital'!HE4 -> 6.0988848e+09 | D4: ='Série Histórica - DRT01 Capital'!HF4 -> 5.8608992e+09 | E4: ='Série Histórica - DRT01 Capital'!HG4 -> 6.0821165e+09 | F4: ='Série Histórica - DRT01 Capital'!HH4 -> 5.8229543e+09 | G4: ='Série Histórica - DRT01 Capital'!HI4 -> 5.5992246e+09 | H4: ='Série Histórica - DRT01 Capital'!HJ4 -> 5.3985337e+09 | I4: ='Série Histórica - DRT01 Capital'!HK4 -> 4.9824179e+09 | ... N4: ='Série Histórica - DRT01 Capital'!HP4 -> 6.0248719e+09 | P4: =(N4/B4-1)*100 -> -3.8859281 | Q4: =(SUM('Série Histórica - DRT01 Capital'!HJ4:HP4)/SUM('Série Histórica - DRT01 Capital'!GX4:HD4)-1)*100 -> -1.0390335 | R4: =(SUM('Série Histórica - DRT01 Capital'!HE4:HP4)/SUM('Série Histórica - DRT01 Capital'!GS4:HD4)-1)*100 -> 0.28185333
A5: Farmácias e Perfumarias | B5: ='Série Histórica - DRT01 Capital'!HD5 -> 3.9491134e+09 | C5: ='Série Histórica - DRT01 Capital'!HE5 -> 4.0893158e+09 | D5: ='Série Histórica - DRT01 Capital'!HF5 -> 3.978528e+09 | E5: ='Série Histórica - DRT01 Capital'!HG5 -> 4.0984135e+09 | F5: ='Série Histórica - DRT01 Capital'!HH5 -> 4.3286993e+09 | G5: ='Série Histórica - DRT01 Capital'!HI5 -> 4.5604142e+09 | H5: ='Série Histórica - DRT01 Capital'!HJ5 -> 3.6995879e+09 | I5: ='Série Histórica - DRT01 Capital'!HK5 -> 3.50038e+09 | ... N5: ='Série Histórica - DRT01 Capital'!HP5 -> 3.9449364e+09 | P5: =(N5/B5-1)*100 -> -0.10576951 | Q5: =(SUM('Série Histórica - DRT01 Capital'!HJ5:HP5)/SUM('Série Histórica - DRT01 Capital'!GX5:HD5)-1)*100 -> -1.7959687 | R5: =(SUM('Série Histórica - DRT01 Capital'!HE5:HP5)/SUM('Série Histórica - DRT01 Capital'!GS5:HD5)-1)*100 -> -0.74050314
A6: Eletrodomésticos, Eletrônicos e Lojas de Departamentos | B6: ='Série Histórica - DRT01 Capital'!HD6 -> 2.7311331e+09 | C6: ='Série Histórica - DRT01 Capital'!HE6 -> 2.5946242e+09 | D6: ='Série Histórica - DRT01 Capital'!HF6 -> 2.5018644e+09 | E6: ='Série Histórica - DRT01 Capital'!HG6 -> 2.6998713e+09 | F6: ='Série Histórica - DRT01 Capital'!HH6 -> 2.8938591e+09 | G6: ='Série Histórica - DRT01 Capital'!HI6 -> 2.7039767e+09 | H6: ='Série Histórica - DRT01 Capital'!HJ6 -> 2.0921729e+09 | I6: ='Série Histórica - DRT01 Capital'!HK6 -> 1.8279122e+09 | ... N6: ='Série Histórica - DRT01 Capital'!HP6 -> 1.7116912e+09 | P6: =(N6/B6-1)*100 -> -37.326701 | Q6: =(SUM('Série Histórica - DRT01 Capital'!HJ6:HP6)/SUM('Série Histórica - DRT01 Capital'!GX6:HD6)-1)*100 -> -26.883436 | R6: =(SUM('Série Histórica - DRT01 Capital'!HE6:HP6)/SUM('Série Histórica - DRT01 Capital'!GS6:HD6)-1)*100 -> -15.62465
A7: Materiais de Construção | B7: ='Série Histórica - DRT01 Capital'!HD7 -> 2.7346646e+09 | C7: ='Série Histórica - DRT01 Capital'!HE7 -> 2.6218415e+09 | D7: ='Série Histórica - DRT01 Capital'!HF7 -> 2.553072e+09 | E7: ='Série Histórica - DRT01 Capital'!HG7 -> 2.6226401e+09 | F7: ='Série Histórica - DRT01 Capital'!HH7 -> 2.4868594e+09 | G7: ='Série Histórica - DRT01 Capital'!HI7 -> 2.2765402e+09 | H7: ='Série Histórica - DRT01 Capital'!HJ7 -> 2.3021664e+09 | I7: ='Série Histórica - DRT01 Capital'!HK7 -> 2.1852753e+09 | ... N7: ='Série Histórica - DRT01 Capital'!HP7 -> 2.4217482e+09 | P7: =(N7/B7-1)*100 -> -11.442589 | Q7: =(SUM('Série Histórica - DRT01 Capital'!HJ7:HP7)/SUM('Série Histórica - DRT01 Capital'!GX7:HD7)-1)*100 -> -14.948136 | R7: =(SUM('Série Histórica - DRT01 Capital'!HE7:HP7)/SUM('Série Histórica - DRT01 Capital'!GS7:HD7)-1)*100 -> -14.132721
A8: Lojas de Móveis e Decoração | B8: ='Série Histórica - DRT01 Capital'!HD8 -> 6.2946697e+08 | C8: ='Série Histórica - DRT01 Capital'!HE8 -> 5.939284e+08 | D8: ='Série Histórica - DRT01 Capital'!HF8 -> 5.7596687e+08 | E8: ='Série Histórica - DRT01 Capital'!HG8 -> 5.8500664e+08 | F8: ='Série Histórica - DRT01 Capital'!HH8 -> 8.2672169e+08 | G8: ='Série Histórica - DRT01 Capital'!HI8 -> 7.8952579e+08 | H8: ='Série Histórica - DRT01 Capital'!HJ8 -> 4.9638685e+08 | I8: ='Série Histórica - DRT01 Capital'!HK8 -> 4.8233923e+08 | ... N8: ='Série Histórica - DRT01 Capital'!HP8 -> 5.6727775e+08 | P8: =(N8/B8-1)*100 -> -9.8796633 | Q8: =(SUM('Série Histórica - DRT01 Capital'!HJ8:HP8)/SUM('Série Histórica - DRT01 Capital'!GX8:HD8)-1)*100 -> -4.192182 | R8: =(SUM('Série Histórica - DRT01 Capital'!HE8:HP8)/SUM('Série Histórica - DRT01 Capital'!GS8:HD8)-1)*100 -> -1.768211 | FV8: 5.0443231e+08
A9: Lojas de Vestuário, Tecido e Calçados | B9: ='Série Histórica - DRT01 Capital'!HD9 -> 4.7282366e+09 | C9: ='Série Histórica - DRT01 Capital'!HE9 -> 4.7707667e+09 | D9: ='Série Histórica - DRT01 Capital'!HF9 -> 4.4600405e+09 | E9: ='Série Histórica - DRT01 Capital'!HG9 -> 4.6948785e+09 | F9: ='Série Histórica - DRT01 Capital'!HH9 -> 5.4294586e+09 | G9: ='Série Histórica - DRT01 Capital'!HI9 -> 7.2039549e+09 | H9: ='Série Histórica - DRT01 Capital'!HJ9 -> 3.8314706e+09 | I9: ='Série Histórica - DRT01 Capital'!HK9 -> 3.5296664e+09 | ... N9: ='Série Histórica - DRT01 Capital'!HP9 -> 4.0316972e+09 | P9: =(N9/B9-1)*100 -> -14.731483 | Q9: =(SUM('Série Histórica - DRT01 Capital'!HJ9:HP9)/SUM('Série Histórica - DRT01 Capital'!GX9:HD9)-1)*100 -> -4.5564684 | R9: =(SUM('Série Histórica - DRT01 Capital'!HE9:HP9)/SUM('Série Histórica - DRT01 Capital'!GS9:HD9)-1)*100 -> -0.39394757
A10: Supermercados | B10: ='Série Histórica - DRT01 Capital'!HD10 -> 1.2730221e+10 | C10: ='Série Histórica - DRT01 Capital'!HE10 -> 1.313769e+10 | D10: ='Série Histórica - DRT01 Capital'!HF10 -> 1.2541211e+10 | E10: ='Série Histórica - DRT01 Capital'!HG10 -> 1.3091512e+10 | F10: ='Série Histórica - DRT01 Capital'!HH10 -> 1.3225881e+10 | G10: ='Série Histórica - DRT01 Capital'!HI10 -> 1.4464154e+10 | H10: ='Série Histórica - DRT01 Capital'!HJ10 -> 1.1844144e+10 | I10: ='Série Histórica - DRT01 Capital'!HK10 -> 1.1373281e+10 | ... N10: ='Série Histórica - DRT01 Capital'!HP10 -> 1.1765086e+10 | P10: =(N10/B10-1)*100 -> -7.5814523 | Q10: =(SUM('Série Histórica - DRT01 Capital'!HJ10:HP10)/SUM('Série Histórica - DRT01 Capital'!GX10:HD10)-1)*100 -> -7.0004206 | R10: =(SUM('Série Histórica - DRT01 Capital'!HE10:HP10)/SUM('Série Histórica - DRT01 Capital'!GS10:HD10)-1)*100 -> -4.3448724
A11: Outras Atividades² | B11: ='Série Histórica - DRT01 Capital'!HD11 -> 5.7197533e+09 | C11: ='Série Histórica - DRT01 Capital'!HE11 -> 5.9569182e+09 | D11: ='Série Histórica - DRT01 Capital'!HF11 -> 6.1305327e+09 | E11: ='Série Histórica - DRT01 Capital'!HG11 -> 6.7319535e+09 | F11: ='Série Histórica - DRT01 Capital'!HH11 -> 6.1693282e+09 | G11: ='Série Histórica - DRT01 Capital'!HI11 -> 6.7343132e+09 | H11: ='Série Histórica - DRT01 Capital'!HJ11 -> 5.0364368e+09 | I11: ='Série Histórica - DRT01 Capital'!HK11 -> 4.767124e+09 | ... N11: ='Série Histórica - DRT01 Capital'!HP11 -> 4.287386e+09 | P11: =(N11/B11-1)*100 -> -25.042467 | Q11: =(SUM('Série Histórica - DRT01 Capital'!HJ11:HP11)/SUM('Série Histórica - DRT01 Capital'!GX11:HD11)-1)*100 -> -20.72031 | R11: =(SUM('Série Histórica - DRT01 Capital'!HE11:HP11)/SUM('Série Histórica - DRT01 Capital'!GS11:HD11)-1)*100 -> -13.535162
A12: Total do Comércio Varejista | B12: ='Série Histórica - DRT01 Capital'!HD12 -> 4.0686791e+10 | C12: ='Série Histórica - DRT01 Capital'!HE12 -> 4.1022267e+10 | D12: ='Série Histórica - DRT01 Capital'!HF12 -> 3.976206e+10 | E12: ='Série Histórica - DRT01 Capital'!HG12 -> 4.1789918e+10 | F12: ='Série Histórica - DRT01 Capital'!HH12 -> 4.2361917e+10 | G12: ='Série Histórica - DRT01 Capital'!HI12 -> 4.5487397e+10 | H12: ='Série Histórica - DRT01 Capital'!HJ12 -> 3.5824752e+10 | I12: ='Série Histórica - DRT01 Capital'!HK12 -> 3.367613e+10 | ... N12: ='Série Histórica - DRT01 Capital'!HP12 -> 3.5902969e+10 | P12: =(N12/B12-1)*100 -> -11.757678 | Q12: =(SUM('Série Histórica - DRT01 Capital'!HJ12:HP12)/SUM('Série Histórica - DRT01 Capital'!GX12:HD12)-1)*100 -> -9.2433886 | R12: =(SUM('Série Histórica - DRT01 Capital'!HE12:HP12)/SUM('Série Histórica - DRT01 Capital'!GS12:HD12)-1)*100 -> -5.7186043
A14: Fonte: FecomercioSP e Sefaz/SP
A15: 1) a preços de jul-26
A16: 2) Composição do grupo "Outras Atividades": combustíveis para veículos automotores; lubrificantes; livros, jornais, revistas e papelaria; artigos recreativos e esportivos; joias e relógios; gás liquefeito de petróleo (GLP); artigos usados e produtos novos não especificados.

Sheet Série Histórica - DRT01 Capital
A1: Pesquisa Conjuntural do Comércio Varejista - PCCV (São Paulo - Capital)
A2: Faturamento Real (R$ mil)¹ | B2: 39448 | C2: 39479 | D2: 39508 | E2: 39539 | F2: 39569 | G2: 39600 | H2: 39630 | I2: 39661 | J2: 39692 | K2: 39722 | L2: 39753 | M2: 39783 | N2: 39814 | O2: 39845 | P2: 39873 | Q2: 39904 | R2: 39934 | S2: 39965 | T2: 39995 | U2: 40026 | V2: 40057 | W2: 40087 | X2: 40118 | Y2: 40148 | Z2: 40179 | AA2: 40210 | AB2: 40238 | AC2: 40269 | AD2: 40299 | AE2: 40330 | AF2: 40360 | AG2: 40391 | AH2: 40422 | AI2: 40452 | AJ2: 40483 | AK2: 40513 | AL2: 40544 | AM2: 40575 | AN2: 40603 | AO2: 40634 | AP2: 40664 | AQ2: 40695 | AR2: 40725 | AS2: 40756 | AT2: 40787 | AU2: 40817 | AV2: 40848 | AW2: 40878 | AX2: 40909 | AY2: 40940 | AZ2: 40969 | BA2: 41000 | BB2: 41030 | BC2: 41061 | BD2: 41091 | BE2: 41122 | BF2: 41153 | BG2: 41183 | BH2: 41214 | BI2: 41244 | BJ2: 41275 | BK2: 41306 | BL2: 41334 | BM2: 41365 | BN2: 41395 | BO2: 41426 | BP2: 41456 | BQ2: 41487 | BR2: 41518 | BS2: 41548 | BT2: 41579 | BU2: 41609 | BV2: 41640 | BW2: 41671 | BX2: 41699 | BY2: 41730 | BZ2: 41760 | CA2: 41791 | CB2: 41821 | CC2: 41852 | CD2: 41883 | CE2: 41913 | CF2: 41944 | CG2: 41974 | CH2: 42005 | CI2: 42036 | CJ2: 42064 | CK2: 42095 | CL2: 42125 | CM2: 42156 | CN2: 42186 | CO2: 42217 | CP2: 42248 | CQ2: 42278 | CR2: 42309 | CS2: 42339 | CT2: 42370 | CU2: 42401 | CV2: 42430 | CW2: 42461 | CX2: 42491 | CY2: 42522 | CZ2: 42552 | DA2: 42583 | DB2: 42614 | DC2: 42644 | DD2: 42675 | DE2: 42705 | DF2: 42736 | DG2: 42767 | DH2: 42795 | DI2: 42826 | DJ2: 42856 | DK2: 42887 | DL2: 42917 | DM2: 42948 | DN2: 42979 | DO2: 43009 | DP2: 43040 | DQ2: 43070 | DR2: 43101 | DS2: 43132 | DT2: 43160 | DU2: 43191 | DV2: 43221 | DW2: 43252 | DX2: 43282 | DY2: 43313 | DZ2: 43344 | EA2: 43374 | EB2: 43405 | EC2: 43435 | ED2: 43466 | EE2: 43497 | EF2: 43525 | EG2: 43556 | EH2: 43586 | EI2: 43617 | EJ2: 43647 | EK2: 43678 | EL2: 43709 | EM2: 43739 | EN2: 43770 | EO2: 43800 | EP2: 43831 | EQ2: 43862 | ER2: 43891 | ES2: 43922 | ET2: 43952 | EU2: 43983 | EV2: 44013 | EW2: 44044 | EX2: 44075 | EY2: 44105 | EZ2: 44136 | FA2: 44166 | FB2: 44197 | FC2: 44228 | FD2: 44256 | FE2: 44287 | FF2: 44317 | FG2: 44348 | FH2: 44378 | FI2: 44409 | FJ2: 44440 | FK2: 44470 | FL2: 44501 | FM2: 44531 | FN2: 44562 | FO2: 44593 | FP2: 44621 | FQ2: 44652 | FR2: 44682 | FS2: 44713 | FT2: 44743 | FU2: 44774 | FV2: 44805 | FW2: 44835 | FX2: 44866 | FY2: 44896 | FZ2: 44927 | GA2: 44958 | GB2: 44986 | GC2: 45017 | GD2: 45047 | GE2: 45078 | GF2: 45108 | GG2: 45139 | GH2: 45170 | GI2: 45200 | GJ2: 45231 | GK2: 45261 | GL2: 45292 | GM2: 45323 | GN2: 45352 | GO2: 45383 | GP2: 45413 | GQ2: 45444 | GR2: 45474 | GS2: 45505 | GT2: 45536 | GU2: 45566 | GV2: 45597 | GW2: 45627 | GX2: 45658 | GY2: 45689 | GZ2: 45717 | HA2: 45748 | HB2: 45778 | HC2: 45809 | HD2: 45839 | HE2: 45870 | HF2: 45901 | HG2: 45931 | HH2: 45962 | HI2: 45992 | HJ2: 46023 | HK2: 46054 | HL2: 46082 | HM2: 46113 | HN2: 46143 | HO2: 46174 | HP2: 46204
A3: Autopeças e acessórios | B3: 3.3985404e+08 | C3: 3.4272573e+08 | D3: 3.4606771e+08 | E3: 3.3460867e+08 | F3: 3.4329815e+08 | G3: 3.4317382e+08 | H3: 3.7077865e+08 | I3: 3.5452594e+08 | J3: 3.5724328e+08 | K3: 3.6800267e+08 | L3: 3.4543572e+08 | M3: 3.4547035e+08 | N3: 3.1077563e+08 | O3: 3.0830216e+08 | P3: 3.4788775e+08 | Q3: 3.3891565e+08 | R3: 3.2272821e+08 | S3: 3.5366134e+08 | T3: 3.6508538e+08 | U3: 3.5029737e+08 | V3: 3.5980657e+08 | W3: 3.9101136e+08 | X3: 3.8315725e+08 | Y3: 4.2560723e+08 | Z3: 4.0358894e+08 | AA3: 3.6762393e+08 | AB3: 4.7183988e+08 | AC3: 4.0904168e+08 | AD3: 4.3576087e+08 | AE3: 4.5572373e+08 | AF3: 4.2812238e+08 | AG3: 4.5868562e+08 | AH3: 4.2063043e+08 | AI3: 4.8022118e+08 | AJ3: 4.5461712e+08 | AK3: 4.8137628e+08 | AL3: 4.2982681e+08 | AM3: 4.2033559e+08 | AN3: 4.7023276e+08 | AO3: 4.2160344e+08 | AP3: 4.7173445e+08 | AQ3: 4.6516525e+08 | AR3: 4.5460961e+08 | AS3: 4.5526226e+08 | AT3: 4.301979e+08 | AU3: 4.2112917e+08 | AV3: 4.3888e+08 | AW3: 4.6315815e+08 | AX3: 3.9796983e+08 | AY3: 3.7531412e+08 | AZ3: 4.5445921e+08 | BA3: 3.9521407e+08 | BB3: 4.3551674e+08 | BC3: 3.8948406e+08 | BD3: 4.0559297e+08 | BE3: 4.5207603e+08 | BF3: 4.0040091e+08 | BG3: 4.4766977e+08 | BH3: 4.0858724e+08 | BI3: 4.3266492e+08 | BJ3: 4.224657e+08 | BK3: 3.3644055e+08 | BL3: 3.888623e+08 | BM3: 3.8785569e+08 | BN3: 4.3393084e+08 | BO3: 4.2426491e+08 | BP3: 4.7714392e+08 | BQ3: 5.1247166e+08 | BR3: 5.12288e+08 | BS3: 5.2532316e+08 | BT3: 5.2337009e+08 | BU3: 5.3350256e+08 | BV3: 5.3854061e+08 | BW3: 4.1081118e+08 | BX3: 4.0284887e+08 | BY3: 3.9816154e+08 | BZ3: 4.1354751e+08 | CA3: 3.6125655e+08 | CB3: 4.4687082e+08 | CC3: 4.2931379e+08 | CD3: 4.5602559e+08 | CE3: 5.0545721e+08 | CF3: 4.5952462e+08 | CG3: 5.1492726e+08 | CH3: 4.8775191e+08 | CI3: 4.3118363e+08 | CJ3: 5.1956687e+08 | CK3: 4.9725462e+08 | CL3: 4.929937e+08 | CM3: 5.1231703e+08 | CN3: 5.1759706e+08 | CO3: 4.2692357e+08 | CP3: 4.4988208e+08 | CQ3: 4.527144e+08 | CR3: 4.2447671e+08 | CS3: 4.8756716e+08 | CT3: 4.4505602e+08 | CU3: 4.180947e+08 | CV3: 5.031255e+08 | CW3: 4.6892594e+08 | CX3: 5.1466612e+08 | CY3: 5.0814183e+08 | CZ3: 5.0942407e+08 | DA3: 5.2069484e+08 | DB3: 5.1719605e+08 | DC3: 5.1533525e+08 | DD3: 5.4197034e+08 | DE3: 6.27514e+08 | DF3: 5.5809135e+08 | DG3: 5.547593e+08 | DH3: 5.9371359e+08 | DI3: 5.2385811e+08 | DJ3: 5.8804518e+08 | DK3: 5.8852192e+08 | DL3: 6.1229116e+08 | DM3: 6.4997959e+08 | DN3: 5.7008853e+08 | DO3: 5.8917123e+08 | DP3: 5.7027066e+08 | DQ3: 6.4128462e+08 | DR3: 5.8279122e+08 | DS3: 5.7170541e+08 | DT3: 6.4651263e+08 | DU3: 6.1968399e+08 | DV3: 5.7546489e+08 | DW3: 6.0110776e+08 | DX3: 6.1587378e+08 | DY3: 6.6770925e+08 | DZ3: 5.8951306e+08 | EA3: 6.8913522e+08 | EB3: 6.2550871e+08 | EC3: 6.6819555e+08 | ED3: 6.6671357e+08 | EE3: 6.3808249e+08 | EF3: 6.41804e+08 | EG3: 6.5379116e+08 | EH3: 6.8760303e+08 | EI3: 6.3582938e+08 | EJ3: 7.0399224e+08 | EK3: 7.1543719e+08 | EL3: 6.4260405e+08 | EM3: 7.0440382e+08 | EN3: 6.6244662e+08 | EO3: 6.8258197e+08 | EP3: 6.8812048e+08 | EQ3: 6.5477027e+08 | ER3: 5.644378e+08 | ES3: 3.2600644e+08 | ET3: 4.4563917e+08 | EU3: 6.1389344e+08 | EV3: 7.1710382e+08 | EW3: 7.1780769e+08 | EX3: 7.0269154e+08 | EY3: 7.3638771e+08 | EZ3: 7.0153111e+08 | FA3: 7.727885e+08 | FB3: 6.9900314e+08 | FC3: 6.875892e+08 | FD3: 7.3584963e+08 | FE3: 6.9126141e+08 | FF3: 7.5121667e+08 | FG3: 7.702596e+08 | FH3: 9.4593546e+08 | FI3: 8.015322e+08 | FJ3: 7.895258e+08 | FK3: 7.6698873e+08 | FL3: 8.0989565e+08 | FM3: 8.4244174e+08 | FN3: 8.1418027e+08 | FO3: 8.4658962e+08 | FP3: 8.9347024e+08 | FQ3: 8.5118023e+08 | FR3: 9.4176252e+08 | FS3: 8.9504041e+08 | FT3: 8.6720385e+08 | FU3: 9.271456e+08 | FV3: 9.337529e+08 | FW3: 9.184611e+08 | FX3: 8.9041144e+08 | FY3: 9.873489e+08 | FZ3: 9.6633516e+08 | GA3: 9.3057917e+08 | GB3: 1.0864779e+09 | GC3: 9.3455139e+08 | GD3: 1.1380717e+09 | GE3: 1.080678e+09 | GF3: 1.0445594e+09 | GG3: 1.0838593e+09 | GH3: 1.0730232e+09 | GI3: 1.0996171e+09 | GJ3: 1.0848169e+09 | GK3: 1.086716e+09 | GL3: 1.0905752e+09 | GM3: 9.9721926e+08 | GN3: 1.103481e+09 | GO3: 1.1481952e+09 | GP3: 1.1834223e+09 | GQ3: 1.1239186e+09 | GR3: 1.2673921e+09 | GS3: 1.3027949e+09 | GT3: 1.2543929e+09 | GU3: 1.2858181e+09 | GV3: 1.1719568e+09 | GW3: 1.1709744e+09 | GX3: 1.1995842e+09 | GY3: 1.1727745e+09 | GZ3: 1.2096577e+09 | HA3: 1.2256174e+09 | HB3: 1.2192747e+09 | HC3: 1.136799e+09 | HD3: 1.195742e+09 | HE3: 1.158298e+09 | HF3: 1.1599452e+09 | HG3: 1.1835267e+09 | HH3: 1.1781545e+09 | HI3: 1.1552935e+09 | HJ3: 1.1238522e+09 | HK3: 1.0277332e+09 | HL3: 1.1875576e+09 | HM3: 1.0829817e+09 | HN3: 1.0933213e+09 | HO3: 1.068606e+09 | HP3: 1.1482747e+09
A4: Concessionárias de veículos | B4: 5.9025942e+09 | C4: 5.632553e+09 | D4: 6.5410998e+09 | E4: 6.9296264e+09 | F4: 6.5122123e+09 | G4: 6.7939522e+09 | H4: 6.9529373e+09 | I4: 6.5226617e+09 | J4: 7.3695435e+09 | K4: 5.6487487e+09 | L4: 4.4880088e+09 | M4: 4.8534572e+09 | N4: 4.7117613e+09 | O4: 4.4064002e+09 | P4: 6.1591745e+09 | Q4: 4.8179595e+09 | R4: 5.3870319e+09 | S4: 6.7105322e+09 | T4: 5.2445143e+09 | U4: 5.5725716e+09 | V4: 6.9936228e+09 | W4: 5.5391619e+09 | X4: 5.274304e+09 | Y4: 5.3475609e+09 | Z4: 4.7510549e+09 | AA4: 4.8942073e+09 | AB4: 7.3150677e+09 | AC4: 4.8052109e+09 | AD4: 4.9247338e+09 | AE4: 4.7476164e+09 | AF4: 5.1592036e+09 | AG4: 5.8086055e+09 | AH4: 5.448268e+09 | AI4: 5.363978e+09 | AJ4: 5.9420493e+09 | AK4: 5.5383569e+09 | AL4: 4.6737985e+09 | AM4: 5.1171268e+09 | AN4: 5.2426317e+09 | AO4: 5.0353385e+09 | AP4: 5.4716354e+09 | AQ4: 5.063565e+09 | AR4: 5.1340403e+09 | AS4: 5.4191468e+09 | AT4: 6.095405e+09 | AU4: 5.0547475e+09 | AV4: 5.6372528e+09 | AW4: 5.5022044e+09 | AX4: 4.4859562e+09 | AY4: 4.4243082e+09 | AZ4: 5.3023293e+09 | BA4: 4.5620335e+09 | BB4: 4.7955866e+09 | BC4: 5.1379063e+09 | BD4: 4.8832686e+09 | BE4: 6.2546937e+09 | BF4: 4.0844472e+09 | BG4: 5.0762465e+09 | BH4: 4.6656903e+09 | BI4: 4.8504717e+09 | BJ4: 4.7340454e+09 | BK4: 3.877428e+09 | BL4: 4.79968e+09 | BM4: 5.9934352e+09 | BN4: 5.8832568e+09 | BO4: 5.4349652e+09 | BP4: 5.8394659e+09 | BQ4: 6.49151e+09 | BR4: 6.0182857e+09 | BS4: 6.9058625e+09 | BT4: 6.2800851e+09 | BU4: 5.4627196e+09 | BV4: 4.8883768e+09 | BW4: 3.9542066e+09 | BX4: 3.9884455e+09 | BY4: 4.121094e+09 | BZ4: 4.4817134e+09 | CA4: 3.6019856e+09 | CB4: 4.1743872e+09 | CC4: 4.3215087e+09 | CD4: 4.6191639e+09 | CE4: 4.6744028e+09 | CF4: 4.6975744e+09 | CG4: 4.8862041e+09 | CH4: 3.9653382e+09 | CI4: 3.3839295e+09 | CJ4: 4.3591486e+09 | CK4: 3.9143249e+09 | CL4: 3.8779185e+09 | CM4: 4.0802367e+09 | CN4: 4.0453494e+09 | CO4: 4.1859147e+09 | CP4: 3.9769055e+09 | CQ4: 4.130609e+09 | CR4: 3.9929829e+09 | CS4: 4.050488e+09 | CT4: 3.4709636e+09 | CU4: 3.3779787e+09 | CV4: 3.9603455e+09 | CW4: 3.5455975e+09 | CX4: 3.5878055e+09 | CY4: 3.7019265e+09 | CZ4: 3.7190719e+09 | DA4: 4.0129511e+09 | DB4: 3.9912884e+09 | DC4: 3.989459e+09 | DD4: 4.2337772e+09 | DE4: 4.1712702e+09 | DF4: 4.1041498e+09 | DG4: 2.9219881e+09 | DH4: 4.1203881e+09 | DI4: 3.4457227e+09 | DJ4: 4.0522024e+09 | DK4: 4.080207e+09 | DL4: 3.9878431e+09 | DM4: 4.402527e+09 | DN4: 4.0474179e+09 | DO4: 4.2446345e+09 | DP4: 4.26722e+09 | DQ4: 4.274484e+09 | DR4: 4.5296169e+09 | DS4: 3.3371332e+09 | DT4: 4.1983032e+09 | DU4: 4.033462e+09 | DV4: 3.9251818e+09 | DW4: 3.8619633e+09 | DX4: 4.0667474e+09 | DY4: 4.581343e+09 | DZ4: 4.1865484e+09 | EA4: 4.6679777e+09 | EB4: 4.5547341e+09 | EC4: 4.4061419e+09 | ED4: 4.5123137e+09 | EE4: 3.8190337e+09 | EF4: 3.9458644e+09 | EG4: 4.2508305e+09 | EH4: 4.4073049e+09 | EI4: 4.0971487e+09 | EJ4: 4.5006057e+09 | EK4: 4.5080445e+09 | EL4: 4.3869553e+09 | EM4: 4.7465098e+09 | EN4: 4.6308481e+09 | EO4: 4.246099e+09 | EP4: 4.402678e+09 | EQ4: 3.7356704e+09 | ER4: 2.8803517e+09 | ES4: 1.0900993e+09 | ET4: 1.8458302e+09 | EU4: 3.09033e+09 | EV4: 3.6665331e+09 | EW4: 3.89916e+09 | EX4: 4.1762095e+09 | EY4: 4.2420246e+09 | EZ4: 4.3382332e+09 | FA4: 4.1768411e+09 | FB4: 3.7279917e+09 | FC4: 3.4006555e+09 | FD4: 3.079413e+09 | FE4: 3.1550862e+09 | FF4: 3.7993952e+09 | FG4: 4.0784302e+09 | FH4: 4.2456782e+09 | FI4: 4.3592812e+09 | FJ4: 4.1084119e+09 | FK4: 3.8181157e+09 | FL4: 3.9171881e+09 | FM4: 3.6141546e+09 | FN4: 3.5728256e+09 | FO4: 3.8574809e+09 | FP4: 4.2687005e+09 | FQ4: 3.9276087e+09 | FR4: 4.3498534e+09 | FS4: 4.096656e+09 | FT4: 3.9969034e+09 | FU4: 4.56275e+09 | FV4: 4.4736253e+09 | FW4: 4.3167951e+09 | FX4: 4.2703349e+09 | FY4: 4.0237215e+09 | FZ4: 3.9827531e+09 | GA4: 4.0901335e+09 | GB4: 5.3407067e+09 | GC4: 4.3320415e+09 | GD4: 4.952818e+09 | GE4: 5.1478982e+09 | GF4: 5.1470702e+09 | GG4: 5.3124887e+09 | GH4: 4.9696579e+09 | GI4: 5.1075157e+09 | GJ4: 5.4762775e+09 | GK4: 5.2654788e+09 | GL4: 5.0463073e+09 | GM4: 5.0871161e+09 | GN4: 5.598743e+09 | GO4: 5.7510987e+09 | GP4: 5.6972852e+09 | GQ4: 5.855834e+09 | GR4: 5.999054e+09 | GS4: 5.7382036e+09 | GT4: 5.9293665e+09 | GU4: 6.1595057e+09 | GV4: 5.8013302e+09 | GW4: 5.2157077e+09 | GX4: 5.4208184e+09 | GY4: 5.6097249e+09 | GZ4: 6.1317095e+09 | HA4: 5.7194456e+09 | HB4: 5.8713709e+09 | HC4: 5.7592279e+09 | HD4: 6.2684598e+09 | HE4: 6.0988848e+09 | HF4: 5.8608992e+09 | HG4: 6.0821165e+09 | HH4: 5.8229543e+09 | HI4: 5.5992246e+09 | HJ4: 5.3985337e+09 | HK4: 4.9824179e+09 | HL4: 6.422033e+09 | HM4: 5.6472081e+09 | HN4: 6.0406891e+09 | HO4: 5.8412774e+09 | HP4: 6.0248719e+09
A5: Farmácias e perfumarias | B5: 1.3709377e+09 | C5: 1.3380094e+09 | D5: 1.4811235e+09 | E5: 1.5009306e+09 | F5: 1.5360104e+09 | G5: 1.4705289e+09 | H5: 1.5803415e+09 | I5: 1.5452158e+09 | J5: 1.6314787e+09 | K5: 1.6543306e+09 | L5: 1.6728151e+09 | M5: 1.8738159e+09 | N5: 1.5446167e+09 | O5: 1.4861733e+09 | P5: 1.7741768e+09 | Q5: 1.7552733e+09 | R5: 1.8364462e+09 | S5: 1.8002042e+09 | T5: 1.8946716e+09 | U5: 1.9092685e+09 | V5: 1.875481e+09 | W5: 1.9708918e+09 | X5: 1.9274834e+09 | Y5: 2.1458849e+09 | Z5: 1.4061752e+09 | AA5: 1.6316342e+09 | AB5: 2.0349109e+09 | AC5: 1.8422456e+09 | AD5: 2.0496507e+09 | AE5: 1.9461531e+09 | AF5: 1.6567038e+09 | AG5: 1.7572703e+09 | AH5: 1.6890468e+09 | AI5: 1.7332044e+09 | AJ5: 1.7227948e+09 | AK5: 1.9393306e+09 | AL5: 1.4868739e+09 | AM5: 1.5175307e+09 | AN5: 1.7100082e+09 | AO5: 1.6809014e+09 | AP5: 1.8056811e+09 | AQ5: 1.6775799e+09 | AR5: 1.6776683e+09 | AS5: 1.7493429e+09 | AT5: 1.7018919e+09 | AU5: 1.8377734e+09 | AV5: 1.6597017e+09 | AW5: 2.0256456e+09 | AX5: 1.4787589e+09 | AY5: 1.4452146e+09 | AZ5: 1.7484846e+09 | BA5: 1.5591212e+09 | BB5: 1.7273351e+09 | BC5: 1.6320062e+09 | BD5: 1.669047e+09 | BE5: 1.7993998e+09 | BF5: 1.6504933e+09 | BG5: 1.7487523e+09 | BH5: 1.6631508e+09 | BI5: 1.9537332e+09 | BJ5: 1.5291853e+09 | BK5: 1.3872627e+09 | BL5: 1.612402e+09 | BM5: 1.6853062e+09 | BN5: 1.7205858e+09 | BO5: 1.6272681e+09 | BP5: 1.6619416e+09 | BQ5: 1.7935177e+09 | BR5: 1.6885819e+09 | BS5: 1.7443649e+09 | BT5: 1.7154907e+09 | BU5: 1.9539602e+09 | BV5: 1.6126388e+09 | BW5: 1.5453837e+09 | BX5: 1.6203017e+09 | BY5: 1.6312795e+09 | BZ5: 1.8369413e+09 | CA5: 1.6811373e+09 | CB5: 1.7829787e+09 | CC5: 1.8532963e+09 | CD5: 1.8358381e+09 | CE5: 1.8913602e+09 | CF5: 1.8274186e+09 | CG5: 2.0176852e+09 | CH5: 1.6111916e+09 | CI5: 1.4996999e+09 | CJ5: 1.7832466e+09 | CK5: 1.717138e+09 | CL5: 1.845122e+09 | CM5: 1.7964014e+09 | CN5: 1.8046316e+09 | CO5: 1.8882857e+09 | CP5: 1.8230994e+09 | CQ5: 1.9069787e+09 | CR5: 1.8592216e+09 | CS5: 2.2562954e+09 | CT5: 1.7634217e+09 | CU5: 1.7553024e+09 | CV5: 1.9680187e+09 | CW5: 2.0055871e+09 | CX5: 2.0754327e+09 | CY5: 2.0584444e+09 | CZ5: 2.0580371e+09 | DA5: 2.0992869e+09 | DB5: 2.055993e+09 | DC5: 2.1808522e+09 | DD5: 2.2587504e+09 | DE5: 2.7149862e+09 | DF5: 2.1267306e+09 | DG5: 2.176801e+09 | DH5: 2.2495984e+09 | DI5: 2.0451228e+09 | DJ5: 2.3070761e+09 | DK5: 2.2655924e+09 | DL5: 2.2144034e+09 | DM5: 2.303752e+09 | DN5: 2.2782591e+09 | DO5: 2.308934e+09 | DP5: 2.3343398e+09 | DQ5: 2.6981224e+09 | DR5: 2.1799107e+09 | DS5: 2.2202315e+09 | DT5: 2.3002993e+09 | DU5: 2.2133899e+09 | DV5: 2.339698e+09 | DW5: 2.2568128e+09 | DX5: 2.2234631e+09 | DY5: 2.3593644e+09 | DZ5: 2.2688782e+09 | EA5: 2.3595316e+09 | EB5: 2.4082247e+09 | EC5: 2.7705553e+09 | ED5: 2.2143387e+09 | EE5: 2.2033948e+09 | EF5: 2.3264146e+09 | EG5: 2.252136e+09 | EH5: 2.5004858e+09 | EI5: 2.4049948e+09 | EJ5: 2.4304676e+09 | EK5: 2.7862046e+09 | EL5: 2.3317925e+09 | EM5: 2.7070168e+09 | EN5: 2.7257998e+09 | EO5: 3.0531113e+09 | EP5: 2.5375683e+09 | EQ5: 2.4999324e+09 | ER5: 3.6133139e+09 | ES5: 2.2340968e+09 | ET5: 2.2034288e+09 | EU5: 2.3978742e+09 | EV5: 2.546154e+09 | EW5: 2.665162e+09 | EX5: 2.7287317e+09 | EY5: 2.8433437e+09 | EZ5: 2.959586e+09 | FA5: 3.2957548e+09 | FB5: 2.5969597e+09 | FC5: 2.5389162e+09 | FD5: 2.8508132e+09 | FE5: 2.6986918e+09 | FF5: 2.9613422e+09 | FG5: 2.8494958e+09 | FH5: 2.8167739e+09 | FI5: 2.9135531e+09 | FJ5: 2.7615581e+09 | FK5: 2.8286596e+09 | FL5: 3.0951613e+09 | FM5: 3.5247361e+09 | FN5: 2.8410091e+09 | FO5: 2.6990025e+09 | FP5: 3.1225531e+09 | FQ5: 2.9521014e+09 | FR5: 3.4009605e+09 | FS5: 3.3488331e+09 | FT5: 3.1623941e+09 | FU5: 3.2633091e+09 | FV5: 3.1423076e+09 | FW5: 3.2561046e+09 | FX5: 3.6154001e+09 | FY5: 3.6839389e+09 | FZ5: 3.0766953e+09 | GA5: 3.0778951e+09 | GB5: 3.7066833e+09 | GC5: 3.3028752e+09 | GD5: 3.720871e+09 | GE5: 3.6674178e+09 | GF5: 3.6264494e+09 | GG5: 3.7077905e+09 | GH5: 3.5701532e+09 | GI5: 3.6381056e+09 | GJ5: 3.9648373e+09 | GK5: 4.2816885e+09 | GL5: 3.4095284e+09 | GM5: 3.4965341e+09 | GN5: 3.9150733e+09 | GO5: 3.8780934e+09 | GP5: 4.0721298e+09 | GQ5: 3.9734809e+09 | GR5: 3.9131926e+09 | GS5: 4.1607925e+09 | GT5: 3.9425801e+09 | GU5: 4.0722205e+09 | GV5: 4.283169e+09 | GW5: 4.4621245e+09 | GX5: 3.665839e+09 | GY5: 3.6791344e+09 | GZ5: 3.9989314e+09 | HA5: 3.8635621e+09 | HB5: 4.2526574e+09 | HC5: 4.0103268e+09 | HD5: 3.9491134e+09 | HE5: 4.0893158e+09 | HF5: 3.978528e+09 | HG5: 4.0984135e+09 | HH5: 4.3286993e+09 | HI5: 4.5604142e+09 | HJ5: 3.6995879e+09 | HK5: 3.50038e+09 | HL5: 4.0988628e+09 | HM5: 3.7853322e+09 | HN5: 4.0441764e+09 | HO5: 3.8538418e+09 | HP5: 3.9449364e+09
A6: Eletrodomésticos, eletrônicos e L.D. | B6: 1.6754158e+09 | C6: 1.5625921e+09 | D6: 1.8793642e+09 | E6: 1.7322748e+09 | F6: 1.8901887e+09 | G6: 1.8957938e+09 | H6: 1.7824916e+09 | I6: 1.8594058e+09 | J6: 1.9719043e+09 | K6: 2.0441093e+09 | L6: 1.8501677e+09 | M6: 2.5157819e+09 | N6: 1.8065672e+09 | O6: 1.5220555e+09 | P6: 1.797069e+09 | Q6: 1.69085e+09 | R6: 1.7953243e+09 | S6: 1.7733176e+09 | T6: 1.8568692e+09 | U6: 1.8582924e+09 | V6: 1.8790339e+09 | W6: 1.9972485e+09 | X6: 2.0371259e+09 | Y6: 2.7037688e+09 | Z6: 1.8969577e+09 | AA6: 1.6891814e+09 | AB6: 2.1661558e+09 | AC6: 1.9575004e+09 | AD6: 2.1120999e+09 | AE6: 2.0663653e+09 | AF6: 2.0474608e+09 | AG6: 2.1162895e+09 | AH6: 2.1376499e+09 | AI6: 2.2204964e+09 | AJ6: 2.3009756e+09 | AK6: 2.9814304e+09 | AL6: 2.1624513e+09 | AM6: 1.8665414e+09 | AN6: 2.0111261e+09 | AO6: 1.8390068e+09 | AP6: 2.0464652e+09 | AQ6: 2.0000027e+09 | AR6: 1.9734557e+09 | AS6: 2.1117615e+09 | AT6: 1.922314e+09 | AU6: 2.0341398e+09 | AV6: 2.0825343e+09 | AW6: 2.7741872e+09 | AX6: 1.9020758e+09 | AY6: 1.7509763e+09 | AZ6: 1.9579534e+09 | BA6: 1.8216056e+09 | BB6: 2.0443286e+09 | BC6: 2.0392755e+09 | BD6: 1.8717596e+09 | BE6: 2.0261908e+09 | BF6: 1.9335951e+09 | BG6: 2.0220541e+09 | BH6: 2.0002353e+09 | BI6: 2.6830324e+09 | BJ6: 1.8039683e+09 | BK6: 1.5263745e+09 | BL6: 1.8192625e+09 | BM6: 1.8549704e+09 | BN6: 2.3206237e+09 | BO6: 2.2224466e+09 | BP6: 2.3888987e+09 | BQ6: 2.5188446e+09 | BR6: 2.0792753e+09 | BS6: 2.1002357e+09 | BT6: 2.2647892e+09 | BU6: 2.6137853e+09 | BV6: 1.8818775e+09 | BW6: 1.5387179e+09 | BX6: 1.7139726e+09 | BY6: 1.857019e+09 | BZ6: 2.0278903e+09 | CA6: 1.788068e+09 | CB6: 1.8820651e+09 | CC6: 1.9594579e+09 | CD6: 1.86492e+09 | CE6: 2.0378942e+09 | CF6: 2.364838e+09 | CG6: 2.4204657e+09 | CH6: 1.7327491e+09 | CI6: 1.4188398e+09 | CJ6: 1.6487529e+09 | CK6: 1.5695036e+09 | CL6: 1.7106933e+09 | CM6: 1.5789974e+09 | CN6: 1.5590087e+09 | CO6: 1.5457048e+09 | CP6: 1.6455213e+09 | CQ6: 1.9244455e+09 | CR6: 2.1308614e+09 | CS6: 2.4676481e+09 | CT6: 1.7363649e+09 | CU6: 1.7174598e+09 | CV6: 1.4284472e+09 | CW6: 1.3670362e+09 | CX6: 1.5289427e+09 | CY6: 1.4921014e+09 | CZ6: 1.4558479e+09 | DA6: 1.4643799e+09 | DB6: 1.3994846e+09 | DC6: 1.6037813e+09 | DD6: 1.8682123e+09 | DE6: 2.3026176e+09 | DF6: 1.6030109e+09 | DG6: 1.6777776e+09 | DH6: 1.6998401e+09 | DI6: 1.5859014e+09 | DJ6: 1.668399e+09 | DK6: 1.6175987e+09 | DL6: 1.676322e+09 | DM6: 1.6856376e+09 | DN6: 1.5366693e+09 | DO6: 1.6554074e+09 | DP6: 2.0806947e+09 | DQ6: 2.3571043e+09 | DR6: 1.6727238e+09 | DS6: 1.777377e+09 | DT6: 1.7017518e+09 | DU6: 1.6128196e+09 | DV6: 1.677269e+09 | DW6: 1.6259195e+09 | DX6: 1.599685e+09 | DY6: 1.7363299e+09 | DZ6: 1.6095253e+09 | EA6: 1.7751042e+09 | EB6: 2.2130205e+09 | EC6: 2.3715755e+09 | ED6: 1.7309097e+09 | EE6: 1.9095483e+09 | EF6: 1.6153815e+09 | EG6: 1.6532829e+09 | EH6: 1.7567333e+09 | EI6: 1.6639407e+09 | EJ6: 1.6645905e+09 | EK6: 1.7387603e+09 | EL6: 1.7595389e+09 | EM6: 1.9787854e+09 | EN6: 2.3687034e+09 | EO6: 2.380877e+09 | EP6: 1.6981046e+09 | EQ6: 1.9446057e+09 | ER6: 1.4840708e+09 | ES6: 6.6922484e+08 | ET6: 1.0080057e+09 | EU6: 1.8639973e+09 | EV6: 1.7599714e+09 | EW6: 1.8438161e+09 | EX6: 1.8646038e+09 | EY6: 2.0382365e+09 | EZ6: 2.5386961e+09 | FA6: 2.623781e+09 | FB6: 1.6975507e+09 | FC6: 1.6507297e+09 | FD6: 1.192975e+09 | FE6: 1.3979786e+09 | FF6: 1.9305049e+09 | FG6: 1.8256006e+09 | FH6: 1.8179756e+09 | FI6: 1.7413318e+09 | FJ6: 1.7856079e+09 | FK6: 1.9005171e+09 | FL6: 2.2840914e+09 | FM6: 2.5117984e+09 | FN6: 1.7544179e+09 | FO6: 1.6829421e+09 | FP6: 1.9445838e+09 | FQ6: 1.8822472e+09 | FR6: 2.010894e+09 | FS6: 1.7934026e+09 | FT6: 1.7358219e+09 | FU6: 1.8484228e+09 | FV6: 1.8209196e+09 | FW6: 1.9751897e+09 | FX6: 2.2962611e+09 | FY6: 2.6190046e+09 | FZ6: 1.8891239e+09 | GA6: 1.6597245e+09 | GB6: 2.2654896e+09 | GC6: 2.0642438e+09 | GD6: 2.0650075e+09 | GE6: 1.9018566e+09 | GF6: 1.9432336e+09 | GG6: 1.9143821e+09 | GH6: 1.8855579e+09 | GI6: 2.0624945e+09 | GJ6: 2.5187113e+09 | GK6: 2.6566756e+09 | GL6: 2.098583e+09 | GM6: 1.9649935e+09 | GN6: 2.2406543e+09 | GO6: 2.2288399e+09 | GP6: 2.3691102e+09 | GQ6: 2.3331745e+09 | GR6: 2.5180899e+09 | GS6: 2.3669094e+09 | GT6: 2.3335732e+09 | GU6: 2.6359384e+09 | GV6: 2.9654162e+09 | GW6: 3.1594866e+09 | GX6: 2.4475268e+09 | GY6: 2.369151e+09 | GZ6: 2.5519028e+09 | HA6: 2.5694253e+09 | HB6: 2.773066e+09 | HC6: 2.6428396e+09 | HD6: 2.7311331e+09 | HE6: 2.5946242e+09 | HF6: 2.5018644e+09 | HG6: 2.6998713e+09 | HH6: 2.8938591e+09 | HI6: 2.7039767e+09 | HJ6: 2.0921729e+09 | HK6: 1.8279122e+09 | HL6: 2.0494943e+09 | HM6: 1.9158664e+09 | HN6: 1.8589626e+09 | HO6: 1.7670634e+09 | HP6: 1.7116912e+09
A7: Materiais de construção | B7: 1.4507787e+09 | C7: 1.386752e+09 | D7: 1.4566147e+09 | E7: 1.4707813e+09 | F7: 1.4512946e+09 | G7: 1.4572422e+09 | H7: 1.568057e+09 | I7: 1.5193555e+09 | J7: 1.5826807e+09 | K7: 1.5939032e+09 | L7: 1.4592646e+09 | M7: 1.2479868e+09 | N7: 1.2646836e+09 | O7: 1.1705004e+09 | P7: 1.380224e+09 | Q7: 1.2593226e+09 | R7: 1.3138739e+09 | S7: 1.3609757e+09 | T7: 1.4534306e+09 | U7: 1.4741841e+09 | V7: 1.4939002e+09 | W7: 1.5716778e+09 | X7: 1.6287411e+09 | Y7: 1.4487313e+09 | Z7: 1.3779987e+09 | AA7: 1.3606961e+09 | AB7: 1.6473455e+09 | AC7: 1.4961476e+09 | AD7: 1.5900687e+09 | AE7: 1.5094055e+09 | AF7: 1.6226246e+09 | AG7: 1.7233645e+09 | AH7: 1.6892459e+09 | AI7: 1.6920302e+09 | AJ7: 1.7294689e+09 | AK7: 1.5739069e+09 | AL7: 1.5524665e+09 | AM7: 1.6169401e+09 | AN7: 1.7769049e+09 | AO7: 1.6236476e+09 | AP7: 1.7700659e+09 | AQ7: 1.720258e+09 | AR7: 1.7920246e+09 | AS7: 1.8461226e+09 | AT7: 1.8025482e+09 | AU7: 1.7951273e+09 | AV7: 1.8297286e+09 | AW7: 1.6517026e+09 | AX7: 1.5591821e+09 | AY7: 1.5437926e+09 | AZ7: 1.7415495e+09 | BA7: 1.5365667e+09 | BB7: 1.7177438e+09 | BC7: 1.6188744e+09 | BD7: 1.7493895e+09 | BE7: 1.8329757e+09 | BF7: 1.7113291e+09 | BG7: 1.9065274e+09 | BH7: 1.8284077e+09 | BI7: 1.5395063e+09 | BJ7: 1.5731485e+09 | BK7: 1.4371051e+09 | BL7: 1.5886344e+09 | BM7: 1.8284925e+09 | BN7: 1.8036413e+09 | BO7: 1.7563237e+09 | BP7: 1.9361546e+09 | BQ7: 2.0388393e+09 | BR7: 1.9976273e+09 | BS7: 2.2346608e+09 | BT7: 2.173101e+09 | BU7: 1.8957342e+09 | BV7: 1.937162e+09 | BW7: 1.6339294e+09 | BX7: 1.6428081e+09 | BY7: 1.6398427e+09 | BZ7: 1.7524849e+09 | CA7: 1.5041631e+09 | CB7: 1.8153564e+09 | CC7: 1.8751646e+09 | CD7: 1.9355027e+09 | CE7: 2.0406113e+09 | CF7: 1.9713925e+09 | CG7: 1.7819486e+09 | CH7: 1.7832427e+09 | CI7: 1.6339162e+09 | CJ7: 1.8453175e+09 | CK7: 1.7202854e+09 | CL7: 1.7835778e+09 | CM7: 1.4387127e+09 | CN7: 1.5248079e+09 | CO7: 1.4919448e+09 | CP7: 1.4604194e+09 | CQ7: 1.6333233e+09 | CR7: 1.5479829e+09 | CS7: 1.4736147e+09 | CT7: 1.4103634e+09 | CU7: 1.4106065e+09 | CV7: 1.5288961e+09 | CW7: 1.5164106e+09 | CX7: 1.5252577e+09 | CY7: 1.5942267e+09 | CZ7: 1.6500659e+09 | DA7: 1.6767705e+09 | DB7: 1.6200025e+09 | DC7: 1.6731864e+09 | DD7: 1.7746776e+09 | DE7: 1.7317869e+09 | DF7: 1.6670494e+09 | DG7: 1.3379818e+09 | DH7: 1.6744799e+09 | DI7: 1.4220448e+09 | DJ7: 1.606201e+09 | DK7: 1.5825852e+09 | DL7: 1.6998018e+09 | DM7: 1.730324e+09 | DN7: 1.6966704e+09 | DO7: 1.7896417e+09 | DP7: 1.8250599e+09 | DQ7: 1.6937606e+09 | DR7: 1.7200458e+09 | DS7: 1.4437399e+09 | DT7: 1.6396818e+09 | DU7: 1.6494329e+09 | DV7: 1.6241861e+09 | DW7: 1.6490669e+09 | DX7: 1.7045966e+09 | DY7: 1.8718995e+09 | DZ7: 1.7636108e+09 | EA7: 1.9184365e+09 | EB7: 1.9928203e+09 | EC7: 1.8453881e+09 | ED7: 1.8798965e+09 | EE7: 1.6785362e+09 | EF7: 1.7759397e+09 | EG7: 1.7901839e+09 | EH7: 1.9172388e+09 | EI7: 1.78827e+09 | EJ7: 2.0166514e+09 | EK7: 2.0502309e+09 | EL7: 1.9742446e+09 | EM7: 2.1954396e+09 | EN7: 2.1444014e+09 | EO7: 1.8615208e+09 | EP7: 2.0122262e+09 | EQ7: 1.8017041e+09 | ER7: 1.6781288e+09 | ES7: 1.4567024e+09 | ET7: 1.77297e+09 | EU7: 2.1390105e+09 | EV7: 2.5166599e+09 | EW7: 2.5821371e+09 | EX7: 2.6552818e+09 | EY7: 2.8162432e+09 | EZ7: 2.7599062e+09 | FA7: 2.5400007e+09 | FB7: 2.4233245e+09 | FC7: 2.425826e+09 | FD7: 2.4105433e+09 | FE7: 2.3578046e+09 | FF7: 2.692473e+09 | FG7: 2.7069549e+09 | FH7: 2.8089293e+09 | FI7: 2.8522879e+09 | FJ7: 2.8011257e+09 | FK7: 2.8195706e+09 | FL7: 2.9296528e+09 | FM7: 2.6362629e+09 | FN7: 2.464668e+09 | FO7: 2.4126381e+09 | FP7: 2.7070698e+09 | FQ7: 2.4716779e+09 | FR7: 2.7036532e+09 | FS7: 2.6745977e+09 | FT7: 2.8494982e+09 | FU7: 2.8691564e+09 | FV7: 2.7307346e+09 | FW7: 2.7584269e+09 | FX7: 2.8124354e+09 | FY7: 2.493729e+09 | FZ7: 2.6015106e+09 | GA7: 2.3601938e+09 | GB7: 2.7147398e+09 | GC7: 2.3687847e+09 | GD7: 2.6393033e+09 | GE7: 2.552124e+09 | GF7: 2.6565405e+09 | GG7: 2.8266116e+09 | GH7: 2.693104e+09 | GI7: 2.8410249e+09 | GJ7: 2.8581669e+09 | GK7: 2.5113572e+09 | GL7: 2.5355384e+09 | GM7: 2.4677007e+09 | GN7: 2.4908195e+09 | GO7: 2.6655757e+09 | GP7: 2.6834326e+09 | GQ7: 2.6418781e+09 | GR7: 2.8492991e+09 | GS7: 2.9076755e+09 | GT7: 2.8656642e+09 | GU7: 3.1226302e+09 | GV7: 3.0062355e+09 | GW7: 2.5460272e+09 | GX7: 2.6532519e+09 | GY7: 2.5864007e+09 | GZ7: 3.0626933e+09 | HA7: 2.596946e+09 | HB7: 2.7152501e+09 | HC7: 2.6164737e+09 | HD7: 2.7346646e+09 | HE7: 2.6218415e+09 | HF7: 2.553072e+09 | HG7: 2.6226401e+09 | HH7: 2.4868594e+09 | HI7: 2.2765402e+09 | HJ7: 2.3021664e+09 | HK7: 2.1852753e+09 | HL7: 2.4395597e+09 | HM7: 2.3008207e+09 | HN7: 2.2971645e+09 | HO7: 2.1839299e+09 | HP7: 2.4217482e+09
A8: Lojas de móveis e decoração | B8: 2.9564804e+08 | C8: 2.895943e+08 | D8: 3.2728493e+08 | E8: 3.2002278e+08 | F8: 3.2028049e+08 | G8: 3.2073976e+08 | H8: 3.5652666e+08 | I8: 3.3556539e+08 | J8: 3.3554916e+08 | K8: 3.6012029e+08 | L8: 3.4870418e+08 | M8: 3.61612e+08 | N8: 3.114108e+08 | O8: 3.098203e+08 | P8: 3.3876843e+08 | Q8: 3.0584999e+08 | R8: 3.2472828e+08 | S8: 3.2004011e+08 | T8: 3.619631e+08 | U8: 3.5226131e+08 | V8: 3.3746438e+08 | W8: 3.791916e+08 | X8: 3.9743841e+08 | Y8: 4.277756e+08 | Z8: 3.503595e+08 | AA8: 3.5404478e+08 | AB8: 4.2764719e+08 | AC8: 3.7849132e+08 | AD8: 3.9611323e+08 | AE8: 3.7967773e+08 | AF8: 4.2839074e+08 | AG8: 4.044919e+08 | AH8: 3.8566852e+08 | AI8: 4.0311146e+08 | AJ8: 4.469227e+08 | AK8: 4.4382133e+08 | AL8: 3.9907439e+08 | AM8: 3.9846439e+08 | AN8: 4.1856215e+08 | AO8: 4.1868842e+08 | AP8: 4.4749238e+08 | AQ8: 4.3266576e+08 | AR8: 4.8311677e+08 | AS8: 4.8415408e+08 | AT8: 4.7045474e+08 | AU8: 4.8582504e+08 | AV8: 5.0982603e+08 | AW8: 5.1673868e+08 | AX8: 4.210531e+08 | AY8: 3.9928624e+08 | AZ8: 4.3992802e+08 | BA8: 3.8904947e+08 | BB8: 4.0406321e+08 | BC8: 3.5656633e+08 | BD8: 4.518669e+08 | BE8: 4.4039884e+08 | BF8: 4.0068266e+08 | BG8: 4.6319935e+08 | BH8: 4.7657118e+08 | BI8: 4.3267063e+08 | BJ8: 4.0345962e+08 | BK8: 3.6458503e+08 | BL8: 3.8818328e+08 | BM8: 3.8375842e+08 | BN8: 3.9943372e+08 | BO8: 4.0274312e+08 | BP8: 4.6549263e+08 | BQ8: 4.6519323e+08 | BR8: 4.4315982e+08 | BS8: 4.9916412e+08 | BT8: 5.1003298e+08 | BU8: 5.0611544e+08 | BV8: 4.2970775e+08 | BW8: 4.3953668e+08 | BX8: 4.3464524e+08 | BY8: 4.1449145e+08 | BZ8: 4.214484e+08 | CA8: 3.9282762e+08 | CB8: 4.3720118e+08 | CC8: 4.2483268e+08 | CD8: 4.1984892e+08 | CE8: 4.1104188e+08 | CF8: 4.5241284e+08 | CG8: 4.3642446e+08 | CH8: 3.3682903e+08 | CI8: 3.4078117e+08 | CJ8: 3.9990399e+08 | CK8: 3.6016524e+08 | CL8: 3.5798416e+08 | CM8: 3.5452594e+08 | CN8: 3.8714527e+08 | CO8: 3.7018126e+08 | CP8: 3.5735948e+08 | CQ8: 3.6920114e+08 | CR8: 3.993966e+08 | CS8: 3.9868289e+08 | CT8: 3.2652521e+08 | CU8: 3.3023872e+08 | CV8: 3.4848486e+08 | CW8: 3.1200803e+08 | CX8: 3.3700557e+08 | CY8: 3.375082e+08 | CZ8: 3.2472548e+08 | DA8: 3.6437828e+08 | DB8: 3.4428745e+08 | DC8: 3.5022518e+08 | DD8: 4.2042352e+08 | DE8: 4.2052375e+08 | DF8: 3.1745463e+08 | DG8: 3.2884555e+08 | DH8: 3.7906415e+08 | DI8: 3.2172216e+08 | DJ8: 3.4283525e+08 | DK8: 3.2317149e+08 | DL8: 3.3249371e+08 | DM8: 3.6147152e+08 | DN8: 3.4490159e+08 | DO8: 3.7066805e+08 | DP8: 4.2213654e+08 | DQ8: 4.185555e+08 | DR8: 3.2574403e+08 | DS8: 3.3985514e+08 | DT8: 4.0375749e+08 | DU8: 3.8185642e+08 | DV8: 3.4435412e+08 | DW8: 3.5044574e+08 | DX8: 3.8308067e+08 | DY8: 4.0304242e+08 | DZ8: 3.8310399e+08 | EA8: 4.023963e+08 | EB8: 4.5984793e+08 | EC8: 4.5960778e+08 | ED8: 3.9069349e+08 | EE8: 4.0025896e+08 | EF8: 4.1699803e+08 | EG8: 4.1032148e+08 | EH8: 4.172438e+08 | EI8: 3.8953003e+08 | EJ8: 4.7445541e+08 | EK8: 4.6140484e+08 | EL8: 4.2046409e+08 | EM8: 4.711352e+08 | EN8: 4.9457021e+08 | EO8: 4.7951728e+08 | EP8: 3.9903389e+08 | EQ8: 4.1850964e+08 | ER8: 3.099881e+08 | ES8: 1.0361974e+08 | ET8: 2.0243339e+08 | EU8: 3.0113114e+08 | EV8: 4.4261601e+08 | EW8: 4.2430085e+08 | EX8: 4.7586735e+08 | EY8: 4.6903849e+08 | EZ8: 5.4783625e+08 | FA8: 5.0046045e+08 | FB8: 4.0747308e+08 | FC8: 4.1710604e+08 | FD8: 3.401862e+08 | FE8: 3.4237783e+08 | FF8: 4.5344524e+08 | FG8: 4.1740382e+08 | FH8: 4.506285e+08 | FI8: 4.5082429e+08 | FJ8: 4.8187329e+08 | FK8: 4.5471561e+08 | FL8: 5.8119753e+08 | FM8: 5.48825e+08 | FN8: 4.3332233e+08 | FO8: 4.5175205e+08 | FP8: 4.9948182e+08 | FQ8: 4.8503122e+08 | FR8: 4.9012951e+08 | FS8: 4.7584987e+08 | FT8: 5.0424837e+08 | FU8: 5.2792829e+08 | FV8: 5.0478564e+08 | FW8: 5.2499297e+08 | FX8: 6.8781306e+08 | FY8: 6.4996792e+08 | FZ8: 4.842716e+08 | GA8: 5.1930144e+08 | GB8: 6.5151527e+08 | GC8: 4.8250341e+08 | GD8: 5.6280785e+08 | GE8: 5.231815e+08 | GF8: 5.2509589e+08 | GG8: 6.0105332e+08 | GH8: 4.8696336e+08 | GI8: 5.3644936e+08 | GJ8: 6.5523639e+08 | GK8: 5.5358604e+08 | GL8: 5.1076507e+08 | GM8: 4.7363134e+08 | GN8: 5.1493918e+08 | GO8: 5.7098535e+08 | GP8: 5.5440093e+08 | GQ8: 5.6874912e+08 | GR8: 6.5314903e+08 | GS8: 6.2334798e+08 | GT8: 6.0505961e+08 | GU8: 6.9198417e+08 | GV8: 7.5564744e+08 | GW8: 6.555831e+08 | GX8: 5.4939077e+08 | GY8: 5.6496319e+08 | GZ8: 5.9411641e+08 | HA8: 5.8454856e+08 | HB8: 6.1972346e+08 | HC8: 5.1877945e+08 | HD8: 6.2946697e+08 | HE8: 5.939284e+08 | HF8: 5.7596687e+08 | HG8: 5.8500664e+08 | HH8: 8.2672169e+08 | HI8: 7.8952579e+08 | HJ8: 4.9638685e+08 | HK8: 4.8233923e+08 | HL8: 6.9302811e+08 | HM8: 5.7980729e+08 | HN8: 5.4571163e+08 | HO8: 5.2619393e+08 | HP8: 5.6727775e+08
A9: Lojas de vestuário, tecidos e calçados | B9: 1.7027497e+09 | C9: 1.6730049e+09 | D9: 2.0847654e+09 | E9: 2.1676155e+09 | F9: 2.7125693e+09 | G9: 2.4873757e+09 | H9: 2.3159402e+09 | I9: 2.3823685e+09 | J9: 2.1485258e+09 | K9: 2.2380705e+09 | L9: 2.4608639e+09 | M9: 4.172921e+09 | N9: 1.8772599e+09 | O9: 1.6355874e+09 | P9: 2.0486141e+09 | Q9: 2.0871691e+09 | R9: 2.5169628e+09 | S9: 2.6680907e+09 | T9: 2.3846744e+09 | U9: 2.3104624e+09 | V9: 2.0806093e+09 | W9: 2.4212579e+09 | X9: 2.6303239e+09 | Y9: 4.6398729e+09 | Z9: 1.9871473e+09 | AA9: 1.8197905e+09 | AB9: 2.3076717e+09 | AC9: 2.4233859e+09 | AD9: 2.9194834e+09 | AE9: 2.7399611e+09 | AF9: 2.650888e+09 | AG9: 2.6801876e+09 | AH9: 2.4374647e+09 | AI9: 2.6959714e+09 | AJ9: 2.8915307e+09 | AK9: 5.2327789e+09 | AL9: 2.2242849e+09 | AM9: 2.2409572e+09 | AN9: 2.6155239e+09 | AO9: 2.5789365e+09 | AP9: 3.2150456e+09 | AQ9: 3.278076e+09 | AR9: 2.9544252e+09 | AS9: 2.8602597e+09 | AT9: 2.6377303e+09 | AU9: 2.8385403e+09 | AV9: 3.0428364e+09 | AW9: 5.3972179e+09 | AX9: 2.293564e+09 | AY9: 2.2095542e+09 | AZ9: 2.7314432e+09 | BA9: 2.6630934e+09 | BB9: 3.371925e+09 | BC9: 3.1650327e+09 | BD9: 2.9595252e+09 | BE9: 2.9693434e+09 | BF9: 2.7157469e+09 | BG9: 3.0117809e+09 | BH9: 3.2092367e+09 | BI9: 5.5373954e+09 | BJ9: 2.5049167e+09 | BK9: 2.0816156e+09 | BL9: 2.5879098e+09 | BM9: 2.7208829e+09 | BN9: 3.1386078e+09 | BO9: 3.03765e+09 | BP9: 2.9398425e+09 | BQ9: 2.9041769e+09 | BR9: 2.6478673e+09 | BS9: 2.9913096e+09 | BT9: 3.4825915e+09 | BU9: 5.6120377e+09 | BV9: 2.605847e+09 | BW9: 2.294443e+09 | BX9: 2.5463895e+09 | BY9: 2.7461296e+09 | BZ9: 3.3080894e+09 | CA9: 2.7571807e+09 | CB9: 2.8703395e+09 | CC9: 2.9241114e+09 | CD9: 3.2111342e+09 | CE9: 2.9600229e+09 | CF9: 2.779079e+09 | CG9: 4.2250734e+09 | CH9: 1.908102e+09 | CI9: 1.6964825e+09 | CJ9: 2.1240022e+09 | CK9: 3.207234e+09 | CL9: 3.4661488e+09 | CM9: 2.7266706e+09 | CN9: 2.6544536e+09 | CO9: 2.5005144e+09 | CP9: 2.3500539e+09 | CQ9: 2.6777901e+09 | CR9: 2.8319687e+09 | CS9: 4.642124e+09 | CT9: 2.5280331e+09 | CU9: 1.9735297e+09 | CV9: 2.1416983e+09 | CW9: 2.2314623e+09 | CX9: 2.8336001e+09 | CY9: 2.8599664e+09 | CZ9: 2.4137754e+09 | DA9: 2.3055736e+09 | DB9: 2.1820877e+09 | DC9: 2.3846198e+09 | DD9: 2.692608e+09 | DE9: 4.5091792e+09 | DF9: 2.1787616e+09 | DG9: 1.9531729e+09 | DH9: 2.3293524e+09 | DI9: 2.4445229e+09 | DJ9: 2.79527e+09 | DK9: 2.775546e+09 | DL9: 2.686713e+09 | DM9: 2.5814032e+09 | DN9: 2.3511157e+09 | DO9: 2.4383876e+09 | DP9: 2.7234428e+09 | DQ9: 4.7503753e+09 | DR9: 2.2054471e+09 | DS9: 1.9576428e+09 | DT9: 2.3991751e+09 | DU9: 2.4994807e+09 | DV9: 2.8196432e+09 | DW9: 2.8765296e+09 | DX9: 2.6378143e+09 | DY9: 2.8592351e+09 | DZ9: 2.590167e+09 | EA9: 2.5672763e+09 | EB9: 3.0035506e+09 | EC9: 4.8787998e+09 | ED9: 2.3892231e+09 | EE9: 2.2287374e+09 | EF9: 2.4669999e+09 | EG9: 2.5162931e+09 | EH9: 2.9068189e+09 | EI9: 3.0256398e+09 | EJ9: 2.9254089e+09 | EK9: 2.8449582e+09 | EL9: 2.6538414e+09 | EM9: 2.8607473e+09 | EN9: 3.2695918e+09 | EO9: 5.0394573e+09 | EP9: 2.6605674e+09 | EQ9: 2.412087e+09 | ER9: 1.5676838e+09 | ES9: 4.563822e+08 | ET9: 7.5063489e+08 | EU9: 1.5668987e+09 | EV9: 2.361635e+09 | EW9: 2.4613062e+09 | EX9: 2.4186509e+09 | EY9: 2.8152486e+09 | EZ9: 3.2015404e+09 | FA9: 4.638542e+09 | FB9: 2.0545964e+09 | FC9: 2.2641922e+09 | FD9: 1.2000505e+09 | FE9: 1.7560551e+09 | FF9: 3.3172663e+09 | FG9: 3.2832319e+09 | FH9: 3.3965887e+09 | FI9: 3.2222607e+09 | FJ9: 2.9685348e+09 | FK9: 3.3884899e+09 | FL9: 3.9784821e+09 | FM9: 5.8188329e+09 | FN9: 2.7057728e+09 | FO9: 2.7915679e+09 | FP9: 3.2577764e+09 | FQ9: 3.5441016e+09 | FR9: 4.3801914e+09 | FS9: 3.9220977e+09 | FT9: 3.5516509e+09 | FU9: 3.715687e+09 | FV9: 3.4805955e+09 | FW9: 3.5206779e+09 | FX9: 4.0516782e+09 | FY9: 6.1952806e+09 | FZ9: 3.1055873e+09 | GA9: 2.9700219e+09 | GB9: 3.7644196e+09 | GC9: 3.8744031e+09 | GD9: 4.4643164e+09 | GE9: 4.401704e+09 | GF9: 4.1138084e+09 | GG9: 3.9630147e+09 | GH9: 3.7413067e+09 | GI9: 3.8365653e+09 | GJ9: 4.4565621e+09 | GK9: 6.8600611e+09 | GL9: 3.376945e+09 | GM9: 3.1354874e+09 | GN9: 3.8493034e+09 | GO9: 3.9791195e+09 | GP9: 4.4506663e+09 | GQ9: 4.5491127e+09 | GR9: 4.4323975e+09 | GS9: 4.514627e+09 | GT9: 4.0751747e+09 | GU9: 4.2797777e+09 | GV9: 5.1566211e+09 | GW9: 7.3427404e+09 | GX9: 3.6254015e+09 | GY9: 3.7464064e+09 | GZ9: 4.1009502e+09 | HA9: 4.4786425e+09 | HB9: 5.122102e+09 | HC9: 5.1914681e+09 | HD9: 4.7282366e+09 | HE9: 4.7707667e+09 | HF9: 4.4600405e+09 | HG9: 4.6948785e+09 | HH9: 5.4294586e+09 | HI9: 7.2039549e+09 | HJ9: 3.8314706e+09 | HK9: 3.5296664e+09 | HL9: 4.316074e+09 | HM9: 4.0800068e+09 | HN9: 5.0421322e+09 | HO9: 4.7499644e+09 | HP9: 4.0316972e+09
A10: Supermercados | B10: 4.9766232e+09 | C10: 4.8965965e+09 | D10: 5.7040205e+09 | E10: 5.2018693e+09 | F10: 5.5598107e+09 | G10: 5.3241109e+09 | H10: 5.4802116e+09 | I10: 5.7201667e+09 | J10: 5.4540991e+09 | K10: 5.7709756e+09 | L10: 5.8449133e+09 | M10: 7.0872461e+09 | N10: 5.5348869e+09 | O10: 5.3129323e+09 | P10: 5.9140773e+09 | Q10: 6.1176086e+09 | R10: 6.0231004e+09 | S10: 5.6972995e+09 | T10: 5.9085035e+09 | U10: 6.1568649e+09 | V10: 5.8820504e+09 | W10: 6.3482705e+09 | X10: 6.2570267e+09 | Y10: 7.8373596e+09 | Z10: 6.0191525e+09 | AA10: 5.8716682e+09 | AB10: 6.7980981e+09 | AC10: 6.5001706e+09 | AD10: 6.5311679e+09 | AE10: 6.1759283e+09 | AF10: 6.3492886e+09 | AG10: 6.4395264e+09 | AH10: 6.3918484e+09 | AI10: 6.7781123e+09 | AJ10: 6.6913381e+09 | AK10: 8.3709462e+09 | AL10: 6.3999309e+09 | AM10: 6.343073e+09 | AN10: 6.9125886e+09 | AO10: 7.2563177e+09 | AP10: 6.7639825e+09 | AQ10: 6.5412141e+09 | AR10: 6.9013648e+09 | AS10: 7.0011651e+09 | AT10: 6.8870501e+09 | AU10: 7.2366118e+09 | AV10: 7.1809454e+09 | AW10: 8.8495181e+09 | AX10: 6.7125578e+09 | AY10: 6.5162426e+09 | AZ10: 7.3425661e+09 | BA10: 7.0291697e+09 | BB10: 6.9845548e+09 | BC10: 6.9124824e+09 | BD10: 7.030437e+09 | BE10: 7.3367777e+09 | BF10: 7.2777862e+09 | BG10: 7.5065266e+09 | BH10: 7.4472486e+09 | BI10: 9.0854894e+09 | BJ10: 6.6852888e+09 | BK10: 6.3697303e+09 | BL10: 7.8695467e+09 | BM10: 6.85099e+09 | BN10: 7.2922671e+09 | BO10: 6.9307471e+09 | BP10: 7.1606236e+09 | BQ10: 7.6845092e+09 | BR10: 7.3178045e+09 | BS10: 7.6684527e+09 | BT10: 7.9155683e+09 | BU10: 9.278468e+09 | BV10: 7.3148287e+09 | BW10: 6.7312464e+09 | BX10: 7.3258955e+09 | BY10: 7.4808575e+09 | BZ10: 7.3696774e+09 | CA10: 7.1016253e+09 | CB10: 7.1717171e+09 | CC10: 7.5001369e+09 | CD10: 7.144798e+09 | CE10: 7.6210501e+09 | CF10: 7.7810017e+09 | CG10: 9.156751e+09 | CH10: 7.270834e+09 | CI10: 6.8300669e+09 | CJ10: 7.6740268e+09 | CK10: 7.5376404e+09 | CL10: 7.6226876e+09 | CM10: 7.1200472e+09 | CN10: 7.3612864e+09 | CO10: 7.7656462e+09 | CP10: 7.4113357e+09 | CQ10: 8.0865209e+09 | CR10: 8.0946824e+09 | CS10: 9.7500008e+09 | CT10: 7.6711437e+09 | CU10: 7.8056175e+09 | CV10: 8.0798567e+09 | CW10: 7.7160453e+09 | CX10: 7.7212589e+09 | CY10: 7.6077442e+09 | CZ10: 8.1348677e+09 | DA10: 8.1844089e+09 | DB10: 8.0194154e+09 | DC10: 8.3832299e+09 | DD10: 8.438135e+09 | DE10: 1.0155894e+10 | DF10: 7.8161953e+09 | DG10: 7.8466038e+09 | DH10: 8.426576e+09 | DI10: 8.8431336e+09 | DJ10: 8.01853e+09 | DK10: 7.7404866e+09 | DL10: 8.1776546e+09 | DM10: 8.4032531e+09 | DN10: 8.2881682e+09 | DO10: 8.3557587e+09 | DP10: 8.6830319e+09 | DQ10: 1.0142402e+10 | DR10: 7.7980602e+09 | DS10: 7.7145545e+09 | DT10: 9.1499984e+09 | DU10: 8.2504904e+09 | DV10: 8.2805591e+09 | DW10: 7.9032237e+09 | DX10: 8.1718453e+09 | DY10: 8.5160056e+09 | DZ10: 8.4376086e+09 | EA10: 8.5076327e+09 | EB10: 8.8923984e+09 | EC10: 1.0585314e+10 | ED10: 8.3096246e+09 | EE10: 8.1559231e+09 | EF10: 9.1657635e+09 | EG10: 9.1178272e+09 | EH10: 8.5888311e+09 | EI10: 8.2763294e+09 | EJ10: 8.3002291e+09 | EK10: 8.8474314e+09 | EL10: 8.4358323e+09 | EM10: 8.8096719e+09 | EN10: 9.3111694e+09 | EO10: 1.0520788e+10 | EP10: 8.3063494e+09 | EQ10: 8.5941066e+09 | ER10: 1.0412539e+10 | ES10: 9.4928967e+09 | ET10: 9.9951902e+09 | EU10: 9.3209478e+09 | EV10: 9.6852527e+09 | EW10: 9.9954753e+09 | EX10: 9.7318381e+09 | EY10: 1.0204319e+10 | EZ10: 1.0206556e+10 | FA10: 1.1930372e+10 | FB10: 9.5325733e+09 | FC10: 9.0599812e+09 | FD10: 1.0464958e+10 | FE10: 9.8180908e+09 | FF10: 9.9693846e+09 | FG10: 9.5324711e+09 | FH10: 9.929669e+09 | FI10: 9.9676214e+09 | FJ10: 9.5811606e+09 | FK10: 1.0052925e+10 | FL10: 1.0125486e+10 | FM10: 1.1693075e+10 | FN10: 9.1675578e+09 | FO10: 9.1770551e+09 | FP10: 1.0124794e+10 | FQ10: 1.0581607e+10 | FR10: 1.0321546e+10 | FS10: 1.011053e+10 | FT10: 1.0565733e+10 | FU10: 1.07483e+10 | FV10: 1.065626e+10 | FW10: 1.1481847e+10 | FX10: 1.1570526e+10 | FY10: 1.3362323e+10 | FZ10: 1.0507253e+10 | GA10: 1.0276028e+10 | GB10: 1.1639487e+10 | GC10: 1.1699528e+10 | GD10: 1.1368915e+10 | GE10: 1.1281813e+10 | GF10: 1.1390151e+10 | GG10: 1.1630805e+10 | GH10: 1.1570506e+10 | GI10: 1.164271e+10 | GJ10: 1.2121598e+10 | GK10: 1.4256292e+10 | GL10: 1.1106598e+10 | GM10: 1.1196838e+10 | GN10: 1.3039414e+10 | GO10: 1.180367e+10 | GP10: 1.2688532e+10 | GQ10: 1.2119133e+10 | GR10: 1.209314e+10 | GS10: 1.2951842e+10 | GT10: 1.2425519e+10 | GU10: 1.3031542e+10 | GV10: 1.3531284e+10 | GW10: 1.5037272e+10 | GX10: 1.2158106e+10 | GY10: 1.202032e+10 | GZ10: 1.3291043e+10 | HA10: 1.3676613e+10 | HB10: 1.3421799e+10 | HC10: 1.2817868e+10 | HD10: 1.2730221e+10 | HE10: 1.313769e+10 | HF10: 1.2541211e+10 | HG10: 1.3091512e+10 | HH10: 1.3225881e+10 | HI10: 1.4464154e+10 | HJ10: 1.1844144e+10 | HK10: 1.1373281e+10 | HL10: 1.2665529e+10 | HM10: 1.227827e+10 | HN10: 1.2267059e+10 | HO10: 1.1614104e+10 | HP10: 1.1765086e+10
A11: Outras atividades | B11: 3.6123689e+09 | C11: 3.4646651e+09 | D11: 3.7134413e+09 | E11: 3.7664803e+09 | F11: 3.8199149e+09 | G11: 3.7694476e+09 | H11: 3.8481926e+09 | I11: 4.0003585e+09 | J11: 3.9980725e+09 | K11: 4.3141033e+09 | L11: 4.0691787e+09 | M11: 4.657017e+09 | N11: 3.7220833e+09 | O11: 3.5411826e+09 | P11: 4.0338918e+09 | Q11: 3.6974116e+09 | R11: 3.0770625e+09 | S11: 3.7162743e+09 | T11: 3.6759422e+09 | U11: 3.8692481e+09 | V11: 3.7321443e+09 | W11: 4.1565432e+09 | X11: 4.119548e+09 | Y11: 5.1794385e+09 | Z11: 3.7024116e+09 | AA11: 3.7593782e+09 | AB11: 4.1622565e+09 | AC11: 3.893458e+09 | AD11: 3.9910691e+09 | AE11: 3.7082764e+09 | AF11: 3.7898599e+09 | AG11: 4.1385793e+09 | AH11: 3.9553281e+09 | AI11: 4.2307081e+09 | AJ11: 4.2554999e+09 | AK11: 5.2595253e+09 | AL11: 3.8386087e+09 | AM11: 4.1846823e+09 | AN11: 4.4083721e+09 | AO11: 4.4804739e+09 | AP11: 4.6304847e+09 | AQ11: 4.5167962e+09 | AR11: 4.3808682e+09 | AS11: 4.8149599e+09 | AT11: 4.6006599e+09 | AU11: 4.5108441e+09 | AV11: 4.5377124e+09 | AW11: 5.4014564e+09 | AX11: 3.9662311e+09 | AY11: 3.8652187e+09 | AZ11: 4.3861402e+09 | BA11: 4.140187e+09 | BB11: 4.3235647e+09 | BC11: 4.2586167e+09 | BD11: 4.270545e+09 | BE11: 4.7418552e+09 | BF11: 4.3498385e+09 | BG11: 4.6727678e+09 | BH11: 4.5534706e+09 | BI11: 5.1708559e+09 | BJ11: 3.7854935e+09 | BK11: 3.5494209e+09 | BL11: 4.2145295e+09 | BM11: 4.0839667e+09 | BN11: 4.2815537e+09 | BO11: 3.9235541e+09 | BP11: 4.0911574e+09 | BQ11: 4.6272395e+09 | BR11: 4.264276e+09 | BS11: 4.7658946e+09 | BT11: 4.5844553e+09 | BU11: 5.4144524e+09 | BV11: 4.3999046e+09 | BW11: 4.1064791e+09 | BX11: 4.1087745e+09 | BY11: 4.0965482e+09 | BZ11: 4.4212079e+09 | CA11: 3.5808276e+09 | CB11: 3.6823737e+09 | CC11: 4.0020005e+09 | CD11: 4.4942334e+09 | CE11: 4.8790115e+09 | CF11: 4.7772367e+09 | CG11: 5.6003008e+09 | CH11: 4.2020696e+09 | CI11: 4.1754477e+09 | CJ11: 4.1978293e+09 | CK11: 4.132119e+09 | CL11: 4.2682644e+09 | CM11: 3.6925589e+09 | CN11: 3.6264518e+09 | CO11: 3.4746728e+09 | CP11: 3.5853466e+09 | CQ11: 3.7715925e+09 | CR11: 3.8652328e+09 | CS11: 4.6184812e+09 | CT11: 3.4460383e+09 | CU11: 3.528211e+09 | CV11: 3.7939537e+09 | CW11: 3.6640665e+09 | CX11: 3.8619906e+09 | CY11: 3.5990908e+09 | CZ11: 3.4912872e+09 | DA11: 3.807659e+09 | DB11: 3.8988426e+09 | DC11: 3.9991537e+09 | DD11: 4.2498626e+09 | DE11: 5.0117174e+09 | DF11: 3.7669486e+09 | DG11: 3.7490735e+09 | DH11: 3.8110797e+09 | DI11: 3.4902079e+09 | DJ11: 3.9212706e+09 | DK11: 3.7362529e+09 | DL11: 3.5468546e+09 | DM11: 4.0215891e+09 | DN11: 3.9544193e+09 | DO11: 3.9245756e+09 | DP11: 4.276437e+09 | DQ11: 5.0173828e+09 | DR11: 3.937254e+09 | DS11: 3.8184603e+09 | DT11: 4.1164427e+09 | DU11: 4.1391339e+09 | DV11: 4.2223457e+09 | DW11: 3.8862115e+09 | DX11: 3.8305902e+09 | DY11: 4.2090972e+09 | DZ11: 4.2739237e+09 | EA11: 4.3308791e+09 | EB11: 4.4313039e+09 | EC11: 5.0361462e+09 | ED11: 3.8304392e+09 | EE11: 3.8502585e+09 | EF11: 4.2397561e+09 | EG11: 4.5871133e+09 | EH11: 4.4836271e+09 | EI11: 4.1077379e+09 | EJ11: 4.0587841e+09 | EK11: 4.446279e+09 | EL11: 4.4763955e+09 | EM11: 4.4487697e+09 | EN11: 5.1623671e+09 | EO11: 5.4424416e+09 | EP11: 4.4210723e+09 | EQ11: 4.2686724e+09 | ER11: 3.9777349e+09 | ES11: 2.4642332e+09 | ET11: 2.7857845e+09 | EU11: 3.256799e+09 | EV11: 4.0197498e+09 | EW11: 4.1654579e+09 | EX11: 4.2882779e+09 | EY11: 4.9973115e+09 | EZ11: 4.9369998e+09 | FA11: 5.981497e+09 | FB11: 4.3683771e+09 | FC11: 4.4429044e+09 | FD11: 4.6336197e+09 | FE11: 4.5682838e+09 | FF11: 5.5312904e+09 | FG11: 5.3832687e+09 | FH11: 5.6164284e+09 | FI11: 5.7265947e+09 | FJ11: 6.1558193e+09 | FK11: 5.951333e+09 | FL11: 6.2745684e+09 | FM11: 6.7612286e+09 | FN11: 5.1579287e+09 | FO11: 5.2173106e+09 | FP11: 5.9274617e+09 | FQ11: 6.0411755e+09 | FR11: 6.3348475e+09 | FS11: 5.926408e+09 | FT11: 5.4900379e+09 | FU11: 5.9080561e+09 | FV11: 6.0769926e+09 | FW11: 5.5286216e+09 | FX11: 5.79111e+09 | FY11: 6.5574708e+09 | FZ11: 5.1627147e+09 | GA11: 4.8459218e+09 | GB11: 5.5880243e+09 | GC11: 5.2217848e+09 | GD11: 5.6814501e+09 | GE11: 5.242626e+09 | GF11: 5.0937073e+09 | GG11: 5.4961622e+09 | GH11: 5.9466966e+09 | GI11: 5.560591e+09 | GJ11: 5.948506e+09 | GK11: 6.3890776e+09 | GL11: 5.2888907e+09 | GM11: 5.6898726e+09 | GN11: 5.8792032e+09 | GO11: 5.7360379e+09 | GP11: 5.9502178e+09 | GQ11: 5.6802096e+09 | GR11: 5.793431e+09 | GS11: 6.2395764e+09 | GT11: 6.2303799e+09 | GU11: 6.463458e+09 | GV11: 6.9452974e+09 | GW11: 7.2332039e+09 | GX11: 5.9378041e+09 | GY11: 5.8874977e+09 | GZ11: 6.2769823e+09 | HA11: 6.4208984e+09 | HB11: 6.7677176e+09 | HC11: 6.0348239e+09 | HD11: 5.7197533e+09 | HE11: 5.9569182e+09 | HF11: 6.1305327e+09 | HG11: 6.7319535e+09 | HH11: 6.1693282e+09 | HI11: 6.7343132e+09 | HJ11: 5.0364368e+09 | HK11: 4.767124e+09 | HL11: 5.3792911e+09 | HM11: 4.934956e+09 | HN11: 4.9450996e+09 | HO11: 4.7760274e+09 | HP11: 4.287386e+09
A12: Total do Comércio Varejista | B12: 2.132697e+10 | C12: 2.0586493e+10 | D12: 2.3533782e+10 | E12: 2.342421e+10 | F12: 2.4145579e+10 | G12: 2.3862365e+10 | H12: 2.4255477e+10 | I12: 2.4239624e+10 | J12: 2.4849097e+10 | K12: 2.3992364e+10 | L12: 2.2539352e+10 | M12: 2.7115308e+10 | N12: 2.1084045e+10 | O12: 1.9692954e+10 | P12: 2.3793884e+10 | Q12: 2.207036e+10 | R12: 2.2597258e+10 | S12: 2.4400396e+10 | T12: 2.3145654e+10 | U12: 2.3853451e+10 | V12: 2.4634113e+10 | W12: 2.4775255e+10 | X12: 2.4655149e+10 | Y12: 3.0156e+10 | Z12: 2.1894846e+10 | AA12: 2.1748225e+10 | AB12: 2.7330993e+10 | AC12: 2.3705652e+10 | AD12: 2.4950148e+10 | AE12: 2.3729108e+10 | AF12: 2.4132542e+10 | AG12: 2.5527001e+10 | AH12: 2.4555151e+10 | AI12: 2.5597834e+10 | AJ12: 2.6435197e+10 | AK12: 3.1821473e+10 | AL12: 2.3167316e+10 | AM12: 2.3705652e+10 | AN12: 2.556595e+10 | AO12: 2.5334914e+10 | AP12: 2.6622587e+10 | AQ12: 2.5695323e+10 | AR12: 2.5751574e+10 | AS12: 2.6742175e+10 | AT12: 2.6548252e+10 | AU12: 2.6214738e+10 | AV12: 2.6919418e+10 | AW12: 3.2581829e+10 | AX12: 2.3217349e+10 | AY12: 2.2529908e+10 | AZ12: 2.6104854e+10 | BA12: 2.4096041e+10 | BB12: 2.5804619e+10 | BC12: 2.5510244e+10 | BD12: 2.5291432e+10 | BE12: 2.7853711e+10 | BF12: 2.452432e+10 | BG12: 2.6855525e+10 | BH12: 2.6252598e+10 | BI12: 3.168582e+10 | BJ12: 2.3441972e+10 | BK12: 2.0929963e+10 | BL12: 2.526901e+10 | BM12: 2.5789658e+10 | BN12: 2.7273901e+10 | BO12: 2.5759963e+10 | BP12: 2.6960721e+10 | BQ12: 2.9036302e+10 | BR12: 2.6969166e+10 | BS12: 2.9435268e+10 | BT12: 2.9449484e+10 | BU12: 3.3270775e+10 | BV12: 2.5608884e+10 | BW12: 2.2654754e+10 | BX12: 2.3784081e+10 | BY12: 2.4385423e+10 | BZ12: 2.6033001e+10 | CA12: 2.2769072e+10 | CB12: 2.426329e+10 | CC12: 2.5289823e+10 | CD12: 2.5981465e+10 | CE12: 2.7020852e+10 | CF12: 2.7110478e+10 | CG12: 3.103978e+10 | CH12: 2.3298108e+10 | CI12: 2.1410347e+10 | CJ12: 2.4551795e+10 | CK12: 2.4655665e+10 | CL12: 2.542539e+10 | CM12: 2.3300468e+10 | CN12: 2.3480732e+10 | CO12: 2.3649788e+10 | CP12: 2.3059923e+10 | CQ12: 2.4953175e+10 | CR12: 2.5146806e+10 | CS12: 3.0144902e+10 | CT12: 2.279791e+10 | CU12: 2.2317039e+10 | CV12: 2.3752827e+10 | CW12: 2.2827139e+10 | CX12: 2.398596e+10 | CY12: 2.375915e+10 | CZ12: 2.3757103e+10 | DA12: 2.4436103e+10 | DB12: 2.4028598e+10 | DC12: 2.5079843e+10 | DD12: 2.6478417e+10 | DE12: 3.1645489e+10 | DF12: 2.4138392e+10 | DG12: 2.2547004e+10 | DH12: 2.5284092e+10 | DI12: 2.4122236e+10 | DJ12: 2.529983e+10 | DK12: 2.4709962e+10 | DL12: 2.4934377e+10 | DM12: 2.6139937e+10 | DN12: 2.506771e+10 | DO12: 2.5677179e+10 | DP12: 2.7182633e+10 | DQ12: 3.1993471e+10 | DR12: 2.4951594e+10 | DS12: 2.31807e+10 | DT12: 2.6555922e+10 | DU12: 2.539975e+10 | DV12: 2.5808702e+10 | DW12: 2.5011281e+10 | DX12: 2.5233696e+10 | DY12: 2.7204026e+10 | DZ12: 2.6102879e+10 | EA12: 2.721837e+10 | EB12: 2.8581409e+10 | EC12: 3.3021724e+10 | ED12: 2.5924153e+10 | EE12: 2.4883774e+10 | EF12: 2.6594922e+10 | EG12: 2.723178e+10 | EH12: 2.7665887e+10 | EI12: 2.6389421e+10 | EJ12: 2.7075185e+10 | EK12: 2.8398751e+10 | EL12: 2.7081669e+10 | EM12: 2.892248e+10 | EN12: 3.0769898e+10 | EO12: 3.3706394e+10 | EP12: 2.7125721e+10 | EQ12: 2.6330059e+10 | ER12: 2.6488249e+10 | ES12: 1.8293262e+10 | ET12: 2.1009917e+10 | EU12: 2.4550882e+10 | EV12: 2.7715676e+10 | EW12: 2.8754623e+10 | EX12: 2.9042153e+10 | EY12: 3.1162153e+10 | EZ12: 3.2190885e+10 | FA12: 3.6460037e+10 | FB12: 2.7507849e+10 | FC12: 2.68879e+10 | FD12: 2.6908408e+10 | FE12: 2.678563e+10 | FF12: 3.1406319e+10 | FG12: 3.0847117e+10 | FH12: 3.2028607e+10 | FI12: 3.2035287e+10 | FJ12: 3.1433617e+10 | FK12: 3.1981316e+10 | FL12: 3.3995723e+10 | FM12: 3.7951355e+10 | FN12: 2.8911683e+10 | FO12: 2.9136339e+10 | FP12: 3.2745892e+10 | FQ12: 3.2736731e+10 | FR12: 3.4933838e+10 | FS12: 3.3243416e+10 | FT12: 3.2723491e+10 | FU12: 3.4370755e+10 | FV12: 3.3819974e+10 | FW12: 3.4281117e+10 | FX12: 3.598597e+10 | FY12: 4.0572785e+10 | FZ12: 3.1776245e+10 | GA12: 3.0729799e+10 | GB12: 3.6757543e+10 | GC12: 3.4280716e+10 | GD12: 3.659356e+10 | GE12: 3.5799299e+10 | GF12: 3.5540616e+10 | GG12: 3.6536168e+10 | GH12: 3.5936969e+10 | GI12: 3.6325074e+10 | GJ12: 3.9084713e+10 | GK12: 4.3860933e+10 | GL12: 3.4463732e+10 | GM12: 3.4509393e+10 | GN12: 3.8631631e+10 | GO12: 3.7761615e+10 | GP12: 3.9649197e+10 | GQ12: 3.884549e+10 | GR12: 3.9519146e+10 | GS12: 4.0805769e+10 | GT12: 3.966171e+10 | GU12: 4.1742874e+10 | GV12: 4.3616958e+10 | GW12: 4.682312e+10 | GX12: 3.7657723e+10 | GY12: 3.7636372e+10 | GZ12: 4.1217986e+10 | HA12: 4.1135699e+10 | HB12: 4.2762961e+10 | HC12: 4.0728606e+10 | HD12: 4.0686791e+10 | HE12: 4.1022267e+10 | HF12: 3.976206e+10 | HG12: 4.1789918e+10 | HH12: 4.2361917e+10 | HI12: 4.5487397e+10 | HJ12: 3.5824752e+10 | HK12: 3.367613e+10 | HL12: 3.9251429e+10 | HM12: 3.6605249e+10 | HN12: 3.8134317e+10 | HO12: 3.6381008e+10 | HP12: 3.5902969e+10
A14: Fonte: FecomercioSP e Sefaz/SP
A15: 1) a preços de jul-26
A16: 2) Composição do grupo "Outras Atividades": combustíveis para veículos automotores; lubrificantes; livros, jornais, revistas e papelaria; artigos recreativos e esportivos; joias e relógios; gás liquefeito de petróleo (GLP); artigos usados e produtos novos não especificados.
